BEGIN:VCALENDAR
VERSION:2.0
PRODID:-//ChamberMaster//Event Calendar 2.0//EN
METHOD:PUBLISH
X-PUBLISHED-TTL:P3D
REFRESH-INTERVAL:P3D
CALSCALE:GREGORIAN
BEGIN:VEVENT
DTSTART:20170921T154500Z
DTEND:20170921T171500Z
X-MICROSOFT-CDO-ALLDAYEVENT:FALSE
SUMMARY:SVTC Luncheon | Resilient Technology Solar Solutions
DESCRIPTION:Resilient technology solar solutions\; Wood Grill\, Harrisonburg. Dr. Anthony Smith of Secure Futures.\n\nToday we're seeing how investing in solar regeneration reaps double dividends (R2D2) for commercial triple-bottom-line property owners (C-3POs) in the Shenandoah Valley.  In fact we're seeing leveraged internal rates of return hovering well above 15% to 20% for property owners who invest in solar technology.  However\, not all solar value propositions are the same.  It's easy to over-size a solar array\, under-estimate its value in reducing cooling load and roof membrane life\, and totally miss the mark in assessing how best to maximize peak demand shaving potential.  Dr. Tony Smith will share some of the secret sauce that can be used to successfully develop customer-driven solar solutions\, so that a company can become a solar rock-star in achieving economic\, environmental and community benefits.\n\n\n\nRegister to attend Sept. 21\, 2017 luncheon
X-ALT-DESC;FMTTYPE=text/html:<p>Resilient technology solar solutions\; Wood Grill\, Harrisonburg. Dr. Anthony Smith of Secure Futures.</p>\n\n<p>Today we&rsquo\;re seeing how investing in solar regeneration reaps double dividends (R2D2) for commercial triple-bottom-line property owners (C-3POs) in the Shenandoah Valley. &nbsp\;In fact we&rsquo\;re seeing leveraged internal rates of return hovering well above 15% to 20% for property owners who invest in solar technology. &nbsp\;However\, not all solar value propositions are the same. &nbsp\;It&rsquo\;s easy to over-size a solar array\, under-estimate its value in reducing cooling load and roof membrane life\, and totally miss the mark in assessing how best to maximize peak demand shaving potential.&nbsp\; Dr. Tony Smith will share some of the secret sauce that can be used to successfully develop customer-driven solar solutions\, so that a company can become a solar rock-star in achieving economic\, environmental and community benefits.<br />\n<br />\n<a href="https://docs.google.com/forms/d/e/1FAIpQLSdZL9YHbMfo_fSgBjvSaBrIpiTb_vqX6wpJ0jSrEmtnAMj_fQ/viewform?usp=sf_link" style="color: rgb(81\, 146\, 208)\; text-decoration-line: none\; font-family: Arial\, Helvetica\, sans-serif\; font-size: 12px\; letter-spacing: 1px\;" target="_blank" title="Event Registration">Register to attend Sept. 21\, 2017 luncheon</a></p>\n
LOCATION:Wood Grill Buffet 1711 Reservoir Street Harrisonburg\, VA 22801
UID:e.2338.3253
SEQUENCE:3
DTSTAMP:20260420T011101Z
URL:https://chamber.hrchamber.org/events/details/svtc-luncheon-resilient-technology-solar-solutions-3253
END:VEVENT

END:VCALENDAR
