BEGIN:VCALENDAR
VERSION:2.0
PRODID:-//ChamberMaster//Event Calendar 2.0//EN
METHOD:PUBLISH
X-PUBLISHED-TTL:P3D
REFRESH-INTERVAL:P3D
CALSCALE:GREGORIAN
BEGIN:VEVENT
DTSTART:20170928T213000Z
DTEND:20170928T233000Z
X-MICROSOFT-CDO-ALLDAYEVENT:FALSE
SUMMARY:SVTC Fall Tech Mixer
DESCRIPTION:Annual Fall Tech Mixer. Hosted by the SVTC's Board of Directors\, it's our premier fall networking event. Current members and potential members mingle and network and we'll tell you more of what we do throughout the year. Coconut shrimp have indeed been ordered!\n\nIt's our treat - appetizers are 'on us' ... the food is fabulous and coconut shrimp will definitely be on the menu again! Drinks are Dutch treat.\n\nCome and find out what we're doing as an organization\, what our members are doing individually.\n\nLet us know you're coming so that we'll have plenty of appetizers. Feel free to bring a buddy\, a customer\, a co-worker\, or your spouse (please register each).\n\nPARKING: in the Water Street Parking garage across the street\n\nPLEASE BRING PLENTY OF BUSINESS CARDS!\n\nRegister to attend Sept. 28\, 2017 Tech Mixer
X-ALT-DESC;FMTTYPE=text/html:<p>Annual Fall Tech Mixer. Hosted by the SVTC&#39\;s Board of Directors\, it&#39\;s our premier fall networking event. Current members and potential members mingle and network and we&#39\;ll tell you more of what we do throughout the year. Coconut shrimp have indeed been ordered!</p>\n\n<p>It&#39\;s our treat - appetizers are &#39\;on us&#39\; ... the food is fabulous and coconut shrimp will definitely be on the menu again! Drinks are Dutch treat.</p>\n\n<p>Come and find out what we&#39\;re doing as an organization\, what our members are doing individually.</p>\n\n<p>Let us know you&#39\;re coming so that we&#39\;ll have plenty of appetizers. Feel free to bring a buddy\, a customer\, a co-worker\, or your spouse (please register each).</p>\n\n<p>PARKING: in the Water Street Parking garage across the street</p>\n\n<p>PLEASE BRING PLENTY OF BUSINESS CARDS!</p>\n\n<p><a href="https://docs.google.com/forms/d/e/1FAIpQLSc4X4iei70k6lrOvGAzYpl6NfCxWjIwNruORJ8P55TYQ5OiJQ/viewform" style="color: rgb(81\, 146\, 208)\; text-decoration-line: none\;" target="_blank" title="Tech Mixer Registeration ">Register to attend Sept. 28\, 2017 Tech Mixer</a></p>\n
LOCATION:Beyond Restaurant 50 W Water Street Harrisonburg\, VA 22801
UID:e.2338.3254
SEQUENCE:3
DTSTAMP:20260420T024333Z
URL:https://chamber.hrchamber.org/events/details/svtc-luncheon-resilient-technology-solar-solutions-09-28-2017-3254
END:VEVENT

END:VCALENDAR
