BEGIN:VCALENDAR
VERSION:2.0
PRODID:-//ChamberMaster//Event Calendar 2.0//EN
METHOD:PUBLISH
X-PUBLISHED-TTL:P3D
REFRESH-INTERVAL:P3D
CALSCALE:GREGORIAN
BEGIN:VEVENT
DTSTART:20190221T164500Z
DTEND:20190221T180000Z
X-MICROSOFT-CDO-ALLDAYEVENT:FALSE
SUMMARY:SVTC Luncheon | Natural Language Processing: What is It and How Does it Affect Business?
DESCRIPTION:Natural language processing (NLP) is a technology that is becoming increasingly important for the business community. Given a text input\, NLP systems can break the document into sentences and individual words\, identify parts of speech (verbs\, nouns\, adjectives\, etc.)\, and recognize names of people\, places\, organizations\, etc. NLP also parses sentences to depict the dependency relationships between words\, and attempts to recognize coreferences so that pronouns in a document can be associated with names that occur earlier in the document. NLP applications include analysis of twitter feeds\, customer reviews\, blogs\, news stories\, or any other corpus of text that may be relevant to an organization. This ability to impose structure on unstructured data promises to be very helpful to industry.\n\n\n\nRegister for February 21\, 2019 event at www.svtc-va.org
X-ALT-DESC;FMTTYPE=text/html:Natural language processing (NLP) is a technology that is becoming increasingly important for the business community. Given a text input\, NLP systems can break the document into sentences and individual words\, identify parts of speech (verbs\, nouns\, adjectives\, etc.)\, and recognize names of people\, places\, organizations\, etc. NLP also parses sentences to depict the dependency relationships between words\, and attempts to recognize coreferences so that pronouns in a document can be associated with names that occur earlier in the document. NLP applications include analysis of twitter feeds\, customer reviews\, blogs\, news stories\, or any other corpus of text that may be relevant to an organization. This ability to impose structure on unstructured data promises to be very helpful to industry.<br />\n<br />\n<a href="https://svtc-va.org/event/natural-language-processing-feb2019-luncheon/?instance_id=2138" style="text-align: center\;">Register for February 21\, 2019 event at www.svtc-va.org</a>
LOCATION:Wood Grill Buffet 1711 Reservoir St Harrisonburg\, VA 22801
UID:e.2338.6314
SEQUENCE:3
DTSTAMP:20260420T030712Z
URL:https://chamber.hrchamber.org/events/details/svtc-luncheon-natural-language-processing-what-is-it-and-how-does-it-affect-business-6314
END:VEVENT

END:VCALENDAR
