BEGIN:VCALENDAR
VERSION:2.0
PRODID:-//ChamberMaster//Event Calendar 2.0//EN
METHOD:PUBLISH
X-PUBLISHED-TTL:P3D
REFRESH-INTERVAL:P3D
CALSCALE:GREGORIAN
BEGIN:VEVENT
DTSTART:20190418T153000Z
DTEND:20190418T163000Z
X-MICROSOFT-CDO-ALLDAYEVENT:FALSE
SUMMARY:SVTC Luncheon | Digital Ethics
DESCRIPTION:While the Internet offers great access to valuable resources\, it also provides opportunities for inappropriate content and interactions. On April 18th\, Joe Showker will join us to discuss the subject of digital ethics.\n\nShowker has given many lectures regarding this subject. A summary of a prior lecture given to students\, as well as more information about him\, can be found at https://www.jmu.edu/news/2016/04/22-showker-digital-ethics-mm-spr-sum.shtml.\n\nAbout the Speaker\n\nJoe Showker led a career in Rockingham County Public Schools for nearly four decades as a Physical Education and Computer Literacy teacher as well as a coach\, then as a Instructional Technology teacher. He has become known statewide and nationally for his work developing and promoting standards for digital ethics and internet safety. He is the owner of Showker Enterprises\, member of the JMU Alumni Board of Directors and the VHSL Foundation Advisory Board.\n\nJoe recently retired from a career as an educator and digital ethics expert. He is a mentor on social media ethics\, digital interactions\, privacy\, and internet safety. He helped craft Virginia's Public School Guide for Internet Safety\, worked with the Attorney General of Virginia and has presented on Capitol Hill in Washington D.C. and MacWorld New York City. He consults others to reach their potential\, build business networks and mentorship for best practices.\n\n\n\nRegister for this event at https://svtc-va.org/event/digital-ethics-april-luncheon/
X-ALT-DESC;FMTTYPE=text/html:<p>While the Internet offers great access to valuable resources\, it also provides opportunities for inappropriate content and interactions. On April 18th\, Joe Showker will join us to discuss the subject of digital ethics.</p>\n\n<p>Showker has given many lectures regarding this subject. A summary of a prior lecture given to students\, as well as more information about him\, can be found at&nbsp\;<a href="https://www.jmu.edu/news/2016/04/22-showker-digital-ethics-mm-spr-sum.shtml.">https://www.jmu.edu/news/2016/04/22-showker-digital-ethics-mm-spr-sum.shtml.</a></p>\n\n<p><strong>About the Speaker</strong><br />\nJoe Showker led a career in Rockingham County Public Schools for nearly four decades as a Physical Education and Computer Literacy teacher as well as a coach\, then as a Instructional Technology teacher. He has become known statewide and nationally for his work developing and promoting standards for digital ethics and internet safety. He is the owner of Showker Enterprises\, member of the JMU Alumni Board of Directors and the VHSL Foundation Advisory Board.</p>\n\n<p>Joe recently retired from a career as an educator and digital ethics expert. He is a mentor on social media ethics\, digital interactions\, privacy\,&nbsp\;<span style="font-size:inherit">and</span>&nbsp\;internet safety. He helped craft Virginia&rsquo\;s Public School Guide for Internet Safety\, worked with the Attorney General of Virginia and has presented on Capitol Hill in Washington D.C. and MacWorld New York City.&nbsp\;He consults others to reach their potential\, build business networks and mentorship for best practices.<br />\n<br />\nRegister for this event at&nbsp\;<a href="https://svtc-va.org/event/digital-ethics-april-luncheon/">https://svtc-va.org/event/digital-ethics-april-luncheon/</a></p>\n
LOCATION:Wood Grill Buffet 1711 Reservoir St Harrisonburg\, VA 22801
UID:e.2338.6546
SEQUENCE:3
DTSTAMP:20260420T000942Z
URL:https://chamber.hrchamber.org/events/details/svtc-luncheon-digital-ethics-6546
END:VEVENT

END:VCALENDAR
