BEGIN:VCALENDAR
VERSION:2.0
PRODID:-//ChamberMaster//Event Calendar 2.0//EN
METHOD:PUBLISH
X-PUBLISHED-TTL:P3D
REFRESH-INTERVAL:P3D
CALSCALE:GREGORIAN
BEGIN:VEVENT
DTSTART:20181129T164500Z
DTEND:20181129T180000Z
X-MICROSOFT-CDO-ALLDAYEVENT:FALSE
SUMMARY:SVTC Luncheon | Deep Neural Networks: How They Work and When They Don’t
DESCRIPTION:This luncheon was originally scheduled for Nov. 15th. Due to poor weather\, we have rescheduled for November 29th.\n\n\n\nOver the last ten years\, deep neural networks have been at the center of a machine learning boom that has seen hundreds of millions of dollars of investment from the tech industry\, governments and academic institutions.  Dr. Sprague will briefly explain how deep neural networks work\, why they've had such a big impact\, and why they *won't* solve all of our problems.\n\nAbout neural networks: https://skymind.ai/wiki/neural-network#define\n\nAbout the Speaker\n\nNathan Sprague \, Ph.D.\, is an Associate Professor of Computer Science at James Madison University and the Coordinator of the JMU Robotics Minor.  He teaches courses in AI\, Robotics and Autonomous Vehicles.  His research interests are in the areas of machine learning and computer vision.\n\nRegister for November 29\, 2018 luncheon (link)
X-ALT-DESC;FMTTYPE=text/html:<p><em><strong><span style="color:#FF0000">This luncheon was originally scheduled for Nov. 15th. Due to poor weather\, we have rescheduled for November 29th.</span></strong></em><br />\n<br />\nOver the last ten years\, deep neural networks have been at the center of&nbsp\;a machine learning boom that has seen hundreds of millions of dollars of&nbsp\;investment from the tech industry\, governments and academic&nbsp\;institutions.&nbsp\; Dr. Sprague will briefly explain how deep neural networks&nbsp\;work\, why they&rsquo\;ve had such a big impact\, and why they *won&rsquo\;t* solve all&nbsp\;of our problems.</p>\n\n<p>About neural networks:&nbsp\;<a href="https://skymind.ai/wiki/neural-network#define">https://skymind.ai/wiki/neural-network#define</a></p>\n\n<p><strong>About the Speaker</strong><br />\nNathan Sprague \, Ph.D.\,&nbsp\;is an Associate Professor of Computer Science at James&nbsp\;Madison University and the Coordinator of the JMU Robotics Minor.&nbsp\; He teaches courses in AI\, Robotics and Autonomous Vehicles.&nbsp\;&nbsp\;His research interests are in the areas of machine learning and computer vision.</p>\n\n<p><strong><a href="https://svtc-va.org/event/deep-neural-networks-nov2018-luncheon/">Register for November 29\, 2018 luncheon</a>&nbsp\;</strong>(link)</p>\n
LOCATION:Wood Grill Buffet 1711 Reservoir St Harrisonburg\, VA 22801
UID:e.2338.6094
SEQUENCE:3
DTSTAMP:20260420T075033Z
URL:https://chamber.hrchamber.org/events/details/svtc-luncheon-deep-neural-networks-how-they-work-and-when-they-don-t-6094
END:VEVENT

END:VCALENDAR
