BEGIN:VCALENDAR
VERSION:2.0
PRODID:-//ChamberMaster//Event Calendar 2.0//EN
METHOD:PUBLISH
X-PUBLISHED-TTL:P3D
REFRESH-INTERVAL:P3D
CALSCALE:GREGORIAN
BEGIN:VEVENT
DTSTART:20190912T154500Z
DTEND:20190912T170000Z
X-MICROSOFT-CDO-ALLDAYEVENT:FALSE
SUMMARY:SVTC Luncheon | Building Useful Conversational Software
DESCRIPTION:Luncheon Description\n\nIt's easy to build a bot\; it's hard to build a useful bot. Chatbots have been circulating the buzzword bins for the last two years\, and a day doesn't go by where you don't hear about some new chatbot being launched to support customers or processes. Now\, look at your phone. How many chatbots are you using? Go ahead. I'll wait. With chatbots\, you can easily build a novelty\, but without a clear plan and intuitive design\, you might build something that works\, but that nobody wants to use. For this luncheon\, we'll discuss what it takes to build a useful and compelling chatbot\, as well as how to design and prototype bots before you build them. We will then go over a "useful" chatbot application\, and how it was built from end-to-end.\n\n\nAbout the Speaker\n\nMichael Szul has spent two decades in software engineering in industries as diverse as insurance\, energy\, travel\, and higher education\, including consulting with companies such as AIG and Conde Naste. He has worked in both application and product development\, as well as framework creation\, code generation\, API building\, and machine learning. Szul is a speaker\, blogger\, podcaster\, Microsoft MVP in AI and Developer Technologies\, and author of Building Chatbots in TypeScript with the Microsoft Bot Framework. Currently\, he is the manager of undergraduate medical education applications for the University of Virginia's Health System.\n\n\n\nRegister for this event at https://svtc-va.org/event/conversational-software-sept-luncheon/
X-ALT-DESC;FMTTYPE=text/html:<p><strong>Luncheon Description</strong><br />\nIt&rsquo\;s easy to build a bot\; it&rsquo\;s hard to build a useful bot. Chatbots have been circulating the buzzword bins for the last two years\, and a day doesn&rsquo\;t go by where you don&rsquo\;t hear about some new chatbot being launched to support customers or processes. Now\, look at your phone. How many chatbots are you using? Go ahead. I&rsquo\;ll wait. With chatbots\, you can easily build a novelty\, but without a clear plan and intuitive design\, you might build something that works\, but that nobody wants to use. For this luncheon\, we&rsquo\;ll discuss what it takes to build a useful and compelling chatbot\, as well as how to design and prototype bots before you build them. We will then go over a &ldquo\;useful&rdquo\; chatbot application\, and how it was built from end-to-end.</p>\n\n<div>\n<p><strong>About the Speaker</strong><br />\nMichael Szul has spent two decades in software engineering in industries as diverse as insurance\, energy\, travel\, and higher education\, including consulting with companies such as AIG and Conde Naste. He has worked in both application and product development\, as well as framework creation\, code generation\, API building\, and machine learning. Szul is a speaker\, blogger\, podcaster\, Microsoft MVP in AI and Developer Technologies\, and author of Building Chatbots in TypeScript with the Microsoft Bot Framework. Currently\, he is the manager of undergraduate medical education applications for the&nbsp\;University of Virginia&rsquo\;s Health&nbsp\;System.<br />\n<br />\n<strong>Register for this event at&nbsp\;<a href="https://svtc-va.org/event/conversational-software-sept-luncheon/">https://svtc-va.org/event/conversational-software-sept-luncheon/</a></strong></p>\n</div>\n
LOCATION:Wood Grill Buffet 1711 Reservoir St Harrisonburg\, VA 22801
UID:e.2338.6890
SEQUENCE:3
DTSTAMP:20260419T171719Z
URL:https://chamber.hrchamber.org/events/details/svtc-luncheon-building-useful-conversational-software-6890
END:VEVENT

END:VCALENDAR
