BEGIN:VCALENDAR
VERSION:2.0
PRODID:-//ChamberMaster//Event Calendar 2.0//EN
METHOD:PUBLISH
X-PUBLISHED-TTL:P3D
REFRESH-INTERVAL:P3D
CALSCALE:GREGORIAN
BEGIN:VEVENT
DTSTART:20180518T153000Z
DTEND:20180518T170000Z
X-MICROSOFT-CDO-ALLDAYEVENT:FALSE
SUMMARY:SVTC Luncheon | Annual Meeting | Featuring Raincrow Studios
DESCRIPTION:At this luncheon\, SVTC members who did not participate in the electronic Board of Directors election process have the opportunity to vote for the class II of candidates with a paper ballot (SVTC class II elections and candidates).\n\nFeatured speakers | Raincrow Studios\n\nRaincrow Studios will discuss competing with giants in the world of augmented reality and their commitment to creating a world-class entertainment brand in the Shenandoah Valley. Their mobile game\, Covens\, is a unique player on the growing augmented reality landscape as it shares the same real-world map as Google Maps. and their commitment to creating a world-class entertainment brand. "The first time I saw a Google map on a smartphone\, I saw a field-of-play for a world of gamers\," said Travis Fox\, Co-founder of Raincrow Studios. Covens\, a location-based augmented reality game of magic and witchcraft\, is the realization of that vision\, taking full advantage of device-mobility and real-world awareness. "We wanted to build a game that was in rhythm with nature\; the phases of the moon\, the change of seasons\, even weather affect the player and the behavior of NPCs in the game. We really challenged ourselves to reach beyond elder-game concepts and design something that changes with every launch\, something beautiful\, social and perpetual."\n\nCovens is a unique player on the growing augmented reality landscape as it shares the same real-world map with several forthcoming titles from Raincrow. The original narrative is interwoven among the games\, and the witches of Covens will soon find themselves confronting vampires of Vampire Tribunals and Van Helsing-types in Sons of Enoch.\n\nAbout Raincrow\n\nRaincrow Studios have been in the augmented reality sandbox since 2011 and are a team of 6 full-timers. They are an interactive digital media and tech company that produces augmented and virtual reality mobile games\, apps and content. \n\nAdd'l reading: Travis Fox\, for VentureBeat\, Pokemon Go shows it's time for real-world games.\n\n[Raincrow Studios also just won the SVTC's Innovation in Emerging Business award on May 2nd!]\n\nOpen to SVTC members and the public. Registration is encouraged to receive a pre-printed nametag. This event is a Dutch treat. If you choose to eat\, you will pay for your your meal at the end of the luncheon.\n\nRegister for May 18\, 2018 luncheon
X-ALT-DESC;FMTTYPE=text/html:<p>At this luncheon\, SVTC members who did not participate in the electronic Board of Directors election process have the opportunity to vote for the class II of candidates&nbsp\;with a paper ballot (<a href="http://r20.rs6.net/tn.jsp?f=001FcPkzi5Y0luYWavCRYEf4IwGtTChr6Njm_u2mPDzmNiI9z97J_WxyVEQmQQ-4MPnNPrydf5UvCvRpeaLw9dvBom8R3E11kTzuY9f98rwa4Pa4I5ms0TdRZzwkpvC5SpslKCfREmdSTVFbWn94Ai_dPHyEoGAVQFrc-49xxy6O3KbN3eZaQIU0L0_4jmU-RzY&amp\;c=dyqoGEVju3Q95RHmqgTsT6F2vgJF2wNC1U3Je-Lhf5CSH9_Zs2p-4A==&amp\;ch=h1PrPrz4JzVIw20ZHFi4K6bLRthagvVp_e_JpP2e1CVtzuK2AiqTGg==">SVTC class II elections and candidates</a>).</p>\n\n<p><strong>Featured speakers | Raincrow Studios</strong></p>\n\n<p>Raincrow Studios&nbsp\;will discuss competing with giants in the world of&nbsp\;<strong>augmented reality</strong>&nbsp\;and their commitment to creating a world-class&nbsp\;entertainment brand in the Shenandoah Valley. Their mobile game\,&nbsp\;Covens\,&nbsp\;is a unique player on the growing augmented reality landscape as it shares the same real-world map as Google Maps.&nbsp\;and their commitment to creating a world-class&nbsp\;entertainment brand. &quot\;The first time I saw a Google map on a smartphone\, I saw a field-of-play for a world of gamers\,&quot\; said Travis Fox\, Co-founder of Raincrow Studios. Covens\, a location-based augmented reality game of magic and witchcraft\, is the realization of that vision\, taking full advantage of device-mobility and real-world awareness. &quot\;We wanted to build a game that was in rhythm with nature\; the phases of the moon\, the change of seasons\, even weather affect the player and the behavior of NPCs in the game. We really challenged ourselves to reach beyond elder-game concepts and design something that changes with every launch\, something beautiful\, social and perpetual.&quot\;</p>\n\n<p>Covens is a unique player on the growing augmented reality landscape as it shares the same real-world map with several forthcoming titles from Raincrow. The original narrative is interwoven among the games\, and the witches of Covens will soon find themselves confronting vampires of Vampire Tribunals and Van Helsing-types in Sons of Enoch.</p>\n\n<p><strong>About Raincrow</strong></p>\n\n<p>Raincrow Studios have been in the augmented reality sandbox since 2011 and are a team of 6 full-timers.&nbsp\;They are an interactive digital media and tech company that produces augmented and virtual reality mobile games\, apps and content.&nbsp\;</p>\n\n<p>Add&#39\;l reading: Travis Fox\, for VentureBeat\,&nbsp\;<a href="http://r20.rs6.net/tn.jsp?f=001FcPkzi5Y0luYWavCRYEf4IwGtTChr6Njm_u2mPDzmNiI9z97J_WxyULDi0BTwH3n_7e4bJp6jMmM2UdZQ3-xN-fmpA1lWTvemWqoSxCEO4EkITf6hdrh-Gw03IJDbgsHH1sBu1uMCIGkNKhV013K8a98_fniUEMAjEG6ccMAK76v4IU5Ckibuhb_zQo4gAsoY-KEjkCFcJDDg2GBUdZ_5bI6m9mpZNNUSqqEmKYR6IHbnwqXDzZJncBnObqLWbarrv5STVAXMbE=&amp\;c=dyqoGEVju3Q95RHmqgTsT6F2vgJF2wNC1U3Je-Lhf5CSH9_Zs2p-4A==&amp\;ch=h1PrPrz4JzVIw20ZHFi4K6bLRthagvVp_e_JpP2e1CVtzuK2AiqTGg==">Pokemon Go shows it&#39\;s time for real-world games</a>.</p>\n\n<p>[Raincrow Studios also just won the&nbsp\;SVTC&#39\;s Innovation in Emerging Business award&nbsp\;on May 2nd!]</p>\n\n<p><strong>Open to SVTC members and the public. Registration is encouraged to receive a pre-printed nametag. This event is a Dutch treat. If you choose to eat\, you will pay for your your meal at the end of the luncheon.</strong></p>\n\n<p style="text-align:center"><span style="font-size:22px"><a href="http://r20.rs6.net/tn.jsp?f=001FcPkzi5Y0luYWavCRYEf4IwGtTChr6Njm_u2mPDzmNiI9z97J_WxyULDi0BTwH3n-XKJYQdOeyupFCN4SHE4TZik8EDu4AcPALwDnVa3_SSgrJgPU-kn9l0wDTsqGdbucZRx2oSsa6ivIoAq6qSmKcer7LInxrFpVmmlWqMV5DBT7VB2E-35XoWgzIdNasqysD-iTfpV1WT7_het2eeSsnS8RM3zYa1RMHf1-wMRoww=&amp\;c=dyqoGEVju3Q95RHmqgTsT6F2vgJF2wNC1U3Je-Lhf5CSH9_Zs2p-4A==&amp\;ch=h1PrPrz4JzVIw20ZHFi4K6bLRthagvVp_e_JpP2e1CVtzuK2AiqTGg==">Register for May 18\, 2018 luncheon</a></span></p>\n
LOCATION:Wood Grill Buffet 1711 Reservoir St Harrisonburg\, VA 22801
UID:e.2338.5821
SEQUENCE:3
DTSTAMP:20260420T131629Z
URL:https://chamber.hrchamber.org/events/details/svtc-luncheon-annual-meeting-featuring-raincrow-studios-5821
END:VEVENT

END:VCALENDAR
