BEGIN:VCALENDAR
VERSION:2.0
PRODID:-//ChamberMaster//Event Calendar 2.0//EN
METHOD:PUBLISH
X-PUBLISHED-TTL:P3D
REFRESH-INTERVAL:P3D
CALSCALE:GREGORIAN
BEGIN:VEVENT
DTSTART:20190117T164500Z
DTEND:20190117T180000Z
X-MICROSOFT-CDO-ALLDAYEVENT:FALSE
SUMMARY:SVTC Luncheon | What to Do a Year After the FCC’s Repeal of Net Neutrality Regulations?
DESCRIPTION:The FCC repealed net neutrality rules just over a year ago\, but not much has changed for the average business and home user.  ISPs\, large businesses\, and state legislatures are all actively debating how to regulate ISPs ability to selectively throttle specific vendors and types of services delivered via the Internet. Dr. Reif will explore issues underlying both sides of net neutrality arguments as they affect Valley businesses and residents.\n\nAbout the speaker:\n\nHarry Reif\, Ph.D. is a Professor Emeritus of Computer Information Systems and Business Analytics at James Madison University.  In addition to teaching\, Reif served as JMU's first Chief Information Officer during the period that JMU established campus connectivity to the Internet. Previous to JMU\, he spent his career planning and administering computing centers at universities throughout the US.  Dr. Reif is actively involved in computing degree program accreditation worldwide as an ABET Commissioner.\n\nRegistration for January 17\, 2019 SVTC Luncheon
X-ALT-DESC;FMTTYPE=text/html:<p>The FCC repealed net neutrality rules just over a year ago\, but not much has changed for the average business and home user.&nbsp\; ISPs\, large businesses\, and state legislatures are all actively debating how to regulate ISPs ability to selectively throttle specific vendors and types of services delivered via the Internet. Dr. Reif will explore issues underlying both sides of net neutrality arguments as they affect Valley businesses and residents.</p>\n\n<p><strong>About the speaker:</strong><br />\nHarry Reif\, Ph.D. is a Professor Emeritus of Computer Information Systems and Business Analytics at James Madison University.&nbsp\; In addition to teaching\, Reif served as JMU&rsquo\;s first Chief Information Officer during the period that JMU established campus connectivity to the Internet. Previous to JMU\, he spent his career planning and administering computing centers at universities throughout the US.&nbsp\; Dr. Reif is actively involved in computing degree program accreditation worldwide as an ABET Commissioner.</p>\n\n<p><span style="font-size:14px"><strong><a href="https://svtc-va.org/event/net-neutrality-jan2019-luncheon/">Registration for January 17\, 2019 SVTC Luncheon</a></strong></span></p>\n
LOCATION:Wood Grill Buffet 1711 Reservoir St Harrisonburg\, VA 22801
UID:e.2338.6147
SEQUENCE:3
DTSTAMP:20260420T043713Z
URL:https://chamber.hrchamber.org/events/details/svtc-luncheon-6147
END:VEVENT

END:VCALENDAR
