BEGIN:VCALENDAR
VERSION:2.0
PRODID:-//ChamberMaster//Event Calendar 2.0//EN
METHOD:PUBLISH
X-PUBLISHED-TTL:P3D
REFRESH-INTERVAL:P3D
CALSCALE:GREGORIAN
BEGIN:VEVENT
DTSTART:20190523T153000Z
DTEND:20190523T170000Z
X-MICROSOFT-CDO-ALLDAYEVENT:FALSE
SUMMARY:SVTC Luncheon | 2019 Annual Meeting
DESCRIPTION:On May 23\, we will host  our Annual Meeting AND our May luncheon. Prior to the Annual Meeting\, we will conduct our spring 2019 election for class 1 of directors and introduce the slate of candidates on our election page.\n\nAll SVTC members will receive their electronic ballots via email\, and anyone who has not participated in the electronic voting will have the opportunity to vote for the class I of candidates with a paper ballot at the Annual Meeting.\n\nA panel of six of our TechNite19 winners will be joining us at the luncheon:\n\nExploring Rockingham's Past\n\n"Exploring Rockingham's?Past" is an ongoing public history collaboration between JMU's History department\, JMU Libraries\, and the Rockingham County Circuit Court Clerk's office designed to preserve and make select historical court records publicly available.\n\nWorkplaceless\n\nWorkplaceless creates digital courses and learning programs that help professionals and teams learn the skills needed to thrive in a distributed work environment.\n\nComputer Science Program\, Lord Fairfax Community College\n\nDr. Melissa Stange\, director of the Computer Science Program\, facilitated a cross-curricular group of nineteen students who participated in the Global Solutions Sustainability Challenge. This LFCC team placed second in the challenge.\n\nBarTrack\, Inc.\n\nBarTrack's revolutionary commercial applications are designed for bar owners\, managers\, and bartenders to standardize draft beer quality by maximizing the bar's efficiency\, realizing lost revenue\, and improving quality of service.\n\nNick Swayne\, JMU X-Labs\, 4-Virginia\n\nNick Swayne serves in several different yet related roles locally\, regionally\, and at the state level. He serves as Executive Director of 4-Virginia\, Founder and Director of JMU X-Labs\, and Executive Director of the Virginia-DC First Lego League.\n\nToni Sheets\, Harrisonburg City Public Schools\n\nToni Sheets serves as the Executive Director of Technology in Harrisonburg City Public Schools. She is responsible for the day-to-day operations of technical\, data and information technology\; supervision of twenty staff members\; evaluating\, deciding and purchasing all network equipment\; and managing the technology department budget.\n\nRegister for SVTC May luncheon and annual meeting at https://svtc-va.org/event/2019-svtc-annual-meeting/
X-ALT-DESC;FMTTYPE=text/html:<p>On May 23\, we will host&nbsp\; our Annual Meeting AND our May luncheon. Prior to the Annual Meeting\, we will conduct our spring 2019 election for class 1 of directors and introduce the slate of candidates on&nbsp\;<a href="http://r20.rs6.net/tn.jsp?f=001Xhh6Z6ZFpYLP-rzSwwZ1YxZtu0QGKUW9k6hB7gOCuDoT_xWR0bwXSq8moNc5B6wF3iILN8tjbvmFkWt7duKzmDzwrL7KB-4AgG3FScU-CSMaPZu19QrFLC-Ph3CesK5qp3jFrtX697mmteLDfGCA_jGb7PILHxmiqlb05Lt1J7Con34gkzsMIRlMvuLqfKLD&amp\;c=5_OgnCl26FtyW68UAM_gUEJJD_vqD12zuy_2IvEnbHHgAURTfMtWMQ==&amp\;ch=BjN5THMs7WnB9UhT6esZAjnI7RU0eZk1St0mKLheJhJi3P4gXjHuCg==" rel="noopener noreferrer" style="color: rgb(255\, 159\, 25)\; box-sizing: border-box\; margin: 0px\; padding: 0px\; border: 0px rgb(225\, 225\, 225)\; font-style: inherit\; font-variant: inherit\; font-weight: inherit\; font-stretch: inherit\; font-size: inherit\; line-height: inherit\; vertical-align: baseline\; outline: 0px\; max-width: 100%\;" target="_blank">our election page</a>.</p>\n\n<p>All SVTC members will receive their electronic ballots via email\, and anyone who has not participated in the electronic voting will have the opportunity to vote for the class I of candidates with a paper ballot at the Annual Meeting.</p>\n\n<p>A panel of six of our TechNite19 winners will be joining us at the luncheon:</p>\n\n<p><a href="https://omeka.lib.jmu.edu/erp/" rel="noopener noreferrer" style="color: rgb(255\, 159\, 25)\; box-sizing: border-box\; margin: 0px\; padding: 0px\; border: 0px rgb(225\, 225\, 225)\; font-style: inherit\; font-variant: inherit\; font-weight: inherit\; font-stretch: inherit\; font-size: inherit\; line-height: inherit\; vertical-align: baseline\; outline: 0px\; max-width: 100%\;" target="_blank">Exploring Rockingham&rsquo\;s Past</a><br />\n&ldquo\;Exploring Rockingham&rsquo\;s?Past&rdquo\; is an ongoing public history collaboration between JMU&rsquo\;s History department\, JMU Libraries\, and the Rockingham County Circuit Court Clerk&rsquo\;s office designed to preserve and make select historical court records publicly available.</p>\n\n<p><a href="https://www.workplaceless.com/" rel="noopener noreferrer" style="color: rgb(255\, 159\, 25)\; box-sizing: border-box\; margin: 0px\; padding: 0px\; border: 0px rgb(225\, 225\, 225)\; font-style: inherit\; font-variant: inherit\; font-weight: inherit\; font-stretch: inherit\; font-size: inherit\; line-height: inherit\; vertical-align: baseline\; outline: 0px\; max-width: 100%\;" target="_blank">Workplaceless</a><br />\nWorkplaceless creates digital courses and learning programs that help professionals and teams learn the skills needed to thrive in a distributed work environment.</p>\n\n<p><a href="https://lfcc.edu/computer-science/" rel="noopener noreferrer" style="color: rgb(255\, 159\, 25)\; box-sizing: border-box\; margin: 0px\; padding: 0px\; border: 0px rgb(225\, 225\, 225)\; font-style: inherit\; font-variant: inherit\; font-weight: inherit\; font-stretch: inherit\; font-size: inherit\; line-height: inherit\; vertical-align: baseline\; outline: 0px\; max-width: 100%\;" target="_blank">Computer Science Program\, Lord Fairfax Community College</a><br />\nDr. Melissa Stange\, director of the Computer Science Program\, facilitated a cross-curricular group of nineteen students who participated in the Global Solutions Sustainability Challenge. This LFCC team placed second in the challenge.</p>\n\n<p><a href="https://bartrack.beer/" rel="noopener noreferrer" style="color: rgb(255\, 159\, 25)\; box-sizing: border-box\; margin: 0px\; padding: 0px\; border: 0px rgb(225\, 225\, 225)\; font-style: inherit\; font-variant: inherit\; font-weight: inherit\; font-stretch: inherit\; font-size: inherit\; line-height: inherit\; vertical-align: baseline\; outline: 0px\; max-width: 100%\;" target="_blank">BarTrack\, Inc.</a><br />\nBarTrack&rsquo\;s revolutionary commercial applications are designed for bar owners\, managers\, and bartenders to standardize draft beer quality by maximizing the bar&rsquo\;s efficiency\, realizing lost revenue\, and improving quality of service.</p>\n\n<p><a href="https://jmuxlabs.org/" rel="noopener noreferrer" style="color: rgb(255\, 159\, 25)\; box-sizing: border-box\; margin: 0px\; padding: 0px\; border: 0px rgb(225\, 225\, 225)\; font-style: inherit\; font-variant: inherit\; font-weight: inherit\; font-stretch: inherit\; font-size: inherit\; line-height: inherit\; vertical-align: baseline\; outline: 0px\; max-width: 100%\;" target="_blank">Nick Swayne\, JMU X-Labs\,</a>&nbsp\;<a href="https://4-va.org/4-va-fast-facts/" rel="noopener noreferrer" style="color: rgb(255\, 159\, 25)\; box-sizing: border-box\; margin: 0px\; padding: 0px\; border: 0px rgb(225\, 225\, 225)\; font-style: inherit\; font-variant: inherit\; font-weight: inherit\; font-stretch: inherit\; font-size: inherit\; line-height: inherit\; vertical-align: baseline\; outline: 0px\; max-width: 100%\;" target="_blank">4-Virginia</a><br />\nNick Swayne serves in several different yet related roles locally\, regionally\, and at the state level. He serves as Executive Director of 4-Virginia\, Founder and Director of JMU X-Labs\, and Executive Director of the Virginia-DC First Lego League.</p>\n\n<p><a href="https://harrisonburg.k12.va.us/" rel="noopener noreferrer" style="color: rgb(255\, 159\, 25)\; box-sizing: border-box\; margin: 0px\; padding: 0px\; border: 0px rgb(225\, 225\, 225)\; font-style: inherit\; font-variant: inherit\; font-weight: inherit\; font-stretch: inherit\; font-size: inherit\; line-height: inherit\; vertical-align: baseline\; outline: 0px\; max-width: 100%\;" target="_blank">Toni Sheets\, Harrisonburg City Public Schools</a><br />\nToni Sheets serves as the Executive Director of Technology in Harrisonburg City Public Schools. She is responsible for the day-to-day operations of technical\, data and information technology\; supervision of twenty staff members\; evaluating\, deciding and purchasing all network equipment\; and managing the technology department budget.</p>\n\n<p><strong>Register for SVTC May luncheon and annual meeting at&nbsp\;</strong><strong><a href="https://svtc-va.org/event/2019-svtc-annual-meeting/">https://svtc-va.org/event/2019-svtc-annual-meeting/</a></strong></p>\n
LOCATION:Wood Grill Buffet 1711 Reservoir St Harrisonburg\, VA 22801
UID:e.2338.6591
SEQUENCE:3
DTSTAMP:20260419T224914Z
URL:https://chamber.hrchamber.org/events/details/svtc-luncheon-2019-annual-meeting-6591
END:VEVENT

END:VCALENDAR
