BEGIN:VCALENDAR
VERSION:2.0
PRODID:-//ChamberMaster//Event Calendar 2.0//EN
METHOD:PUBLISH
X-PUBLISHED-TTL:P3D
REFRESH-INTERVAL:P3D
CALSCALE:GREGORIAN
BEGIN:VEVENT
DTSTART:20200123T164500Z
DTEND:20200123T180000Z
X-MICROSOFT-CDO-ALLDAYEVENT:FALSE
SUMMARY:SVTC Luncheon | Protecting Small & Medium-Size Businesses From Cyber Attacks
DESCRIPTION:Protecting small and medium-size businesses from cyber attacks.\n\nLessons learned from the GO Virginia cybersecurity program at BRCC.\n\nDan O'Brien   current GO Virginia cybersecurity program manager\, a former cybersecurity analyst with the US Department of Justice\, and also an instructor at Blue Ridge Community College   will talk about best methods for businesses to protect themselves from losses due to cyber-attacks. From BYOD (Bring Your Own Device) policies to backups\, from business impact analyses to cybersecurity assessments\, and from ransomware to spearfishing protection\, the presentation will help to raise cybersecurity maturity organizations and companies. O'Brien will cover new forms of hacking and attacking to keep you up-to-date.\n\nHow can you be sure that your vendors are cyber secure? Many attacks these days originate from cyber-insecure companies that share networks with bigger companies such as yours\, so their open doors to hackers are yours as well. Also\, learn how the GO Virginia cybersecurity program is being used to assist the US Congress with their upcoming Cyber Ready Workforce Act.\nRegister for SVTC's January Luncheon at https://svtc-va.org/event/protecting-businesses/
X-ALT-DESC;FMTTYPE=text/html:<p style="text-align:center"><strong>Protecting small and medium-size businesses from cyber attacks.</strong><br />\n<em><strong>Lessons learned from the GO Virginia cybersecurity program at BRCC.</strong></em></p>\n\n<p>Dan O&rsquo\;Brien &ndash\; current GO Virginia cybersecurity program manager\, a former cybersecurity analyst with the US Department of Justice\, and also an instructor at Blue Ridge Community College &ndash\; will talk about best methods for businesses to protect themselves from losses due to cyber-attacks. From BYOD (Bring Your Own Device) policies to backups\, from business impact analyses to cybersecurity assessments\, and from ransomware to spearfishing protection\, the presentation will help to raise cybersecurity maturity organizations and companies. O&rsquo\;Brien will cover new forms of hacking and attacking to keep you up-to-date.</p>\n\n<p>How can you be sure that your vendors are cyber secure? Many attacks these days originate from cyber-insecure companies that share networks with bigger companies such as yours\, so their open doors to hackers are yours as well. Also\, learn how the GO Virginia cybersecurity program is being used to assist the US Congress with their upcoming Cyber Ready Workforce Act.</p>\nRegister for SVTC&#39\;s January Luncheon at&nbsp\;<a href="https://svtc-va.org/event/protecting-businesses/">https://svtc-va.org/event/protecting-businesses/</a>
LOCATION:Woodgrill Buffet 1711 Reservoir St Harrisonburg\, VA 22801
UID:e.2338.3585
SEQUENCE:3
DTSTAMP:20260419T123243Z
URL:https://chamber.hrchamber.org/events/details/svtc-january-luncheon-cryptocurrency-and-bitcoins-what-is-that-should-i-care-1-25-3585
END:VEVENT

END:VCALENDAR
