BEGIN:VCALENDAR
VERSION:2.0
PRODID:-//ChamberMaster//Event Calendar 2.0//EN
METHOD:PUBLISH
X-PUBLISHED-TTL:P3D
REFRESH-INTERVAL:P3D
CALSCALE:GREGORIAN
BEGIN:VEVENT
DTSTART:20160929T213000Z
DTEND:20160929T233000Z
X-MICROSOFT-CDO-ALLDAYEVENT:FALSE
SUMMARY:SVTC Fall Tech Mixer
DESCRIPTION:Hosted by the SVTC's Board of Directors\, this is our premier fall networking event. Come out and join current members and potential members as they mingle and network. Membership not required :-) It's our treat - appetizers are 'on us'! The food is fabulous and coconut shrimp will definitely be on the menu again! Drinks are Dutch treat. Come and find out what we're doing as an organization\, what our members are doing individually. Let us know you're coming so that we'll have plenty of appetizers. Feel free to bring a buddy\, a customer\, a co-worker\, or your spouse (please register each). PARKING: in the Water Street Parking garage across the street. (Downtown Harrisonburg Parking info) PLEASE BRING PLENTY OF BUSINESS CARDS!
X-ALT-DESC;FMTTYPE=text/html:Hosted by the SVTC&#39\;s Board of Directors\, this is our premier fall networking event. Come out and join current members and potential members as they mingle and network. Membership not required :-) It&#39\;s our treat - appetizers are &#39\;on us&#39\;! The food is fabulous and coconut shrimp will definitely be on the menu again! Drinks are Dutch treat. Come and find out what we&#39\;re doing as an organization\, what our members are doing individually. Let us know you&#39\;re coming so that we&#39\;ll have plenty of appetizers. Feel free to bring a buddy\, a customer\, a co-worker\, or your spouse (please register each). PARKING: in the Water Street Parking garage across the street. (Downtown Harrisonburg Parking info) PLEASE BRING PLENTY OF BUSINESS CARDS!
LOCATION:Beyond Restaurant\, 50 W Water Street Harrisonburg\, VA
UID:e.2338.1499
SEQUENCE:3
DTSTAMP:20260421T230246Z
URL:https://chamber.hrchamber.org/events/details/svtc-fall-tech-mixer-1499
END:VEVENT

END:VCALENDAR
