BEGIN:VCALENDAR
VERSION:2.0
PRODID:-//ChamberMaster//Event Calendar 2.0//EN
METHOD:PUBLISH
X-PUBLISHED-TTL:P3D
REFRESH-INTERVAL:P3D
CALSCALE:GREGORIAN
BEGIN:VEVENT
DTSTART:20170408T130000Z
DTEND:20170409T200000Z
X-MICROSOFT-CDO-ALLDAYEVENT:FALSE
SUMMARY:SVBA Home & Living Expo
DESCRIPTION:Join us for the annual SVBA Home & Living Expo scheduled for April 8 & 9 at the Rockingham County Fairgrounds.  We will have all things related to the home!  Food Vendors are Mashita\, Mamas Caboose\, Vova's Kettlecorn\, Grillizza\, Sweet Treats.  Special events include: Ask a Builder\; Canstruction to benefit Blue Ridge Food Bank\; Classic Car Show\; Dealer Days\; Massanutten Technical Center silent/live auctions\; Skid Steer Rodeo\; Gypsy Catwalk fashion show & mobile boutique\; Upcycle Design Challenge\; Wine & Interior Design with Merle Wenger\; Kid's activities (petting zoo\, face painting\, bouncy house)
X-ALT-DESC;FMTTYPE=text/html:Join us for the annual SVBA Home &amp\; Living Expo scheduled for April 8 &amp\; 9 at the Rockingham County Fairgrounds. &nbsp\;We will have all things related to the home! &nbsp\;Food Vendors are Mashita\, Mamas Caboose\, Vova&#39\;s Kettlecorn\, Grillizza\, Sweet Treats. &nbsp\;Special events include: Ask a Builder\; Canstruction to benefit Blue Ridge Food Bank\; Classic Car Show\; Dealer Days\; Massanutten Technical Center silent/live auctions\; Skid Steer Rodeo\; Gypsy Catwalk fashion show &amp\; mobile boutique\; Upcycle Design Challenge\; Wine &amp\; Interior Design with Merle Wenger\; Kid&#39\;s activities (petting zoo\, face painting\, bouncy house)
LOCATION:Rockingham County Fairgrounds
UID:e.2338.1550
SEQUENCE:3
DTSTAMP:20260421T121108Z
URL:https://chamber.hrchamber.org/events/details/svba-home-living-expo-04-08-2017-1550
END:VEVENT

END:VCALENDAR
