BEGIN:VCALENDAR
VERSION:2.0
PRODID:-//ChamberMaster//Event Calendar 2.0//EN
METHOD:PUBLISH
X-PUBLISHED-TTL:P3D
REFRESH-INTERVAL:P3D
CALSCALE:GREGORIAN
BEGIN:VEVENT
DTSTART:20160723T170000Z
DTEND:20160723T190000Z
X-MICROSOFT-CDO-ALLDAYEVENT:FALSE
SUMMARY:Summer Cinema @ Central
DESCRIPTION:A misfit group of cowboys find themselves on the journey of a lifetime when their crooked-footed racehorse qualifies for the Kentucky Derby. Check film title www.mrlib.org/cinema. Film is rated PG-13.
X-ALT-DESC;FMTTYPE=text/html:A misfit group of cowboys find themselves on the journey of a lifetime when their crooked-footed racehorse qualifies for the Kentucky Derby. Check film title www.mrlib.org/cinema. Film is rated PG-13.
LOCATION:Central Library
UID:e.2338.437
SEQUENCE:3
DTSTAMP:20260422T015054Z
URL:https://chamber.hrchamber.org/events/details/summer-cinema-central-07-23-2016-437
END:VEVENT

END:VCALENDAR
