BEGIN:VCALENDAR
VERSION:2.0
PRODID:-//ChamberMaster//Event Calendar 2.0//EN
METHOD:PUBLISH
X-PUBLISHED-TTL:P3D
REFRESH-INTERVAL:P3D
CALSCALE:GREGORIAN
BEGIN:VEVENT
DTSTART:20160716T170000Z
DTEND:20160716T190000Z
X-MICROSOFT-CDO-ALLDAYEVENT:FALSE
SUMMARY:Summer Cinema @ Central
DESCRIPTION:In 1946\, Branch Rickey signed Jackie Robinson to the Brooklyn Dodgers\, breaking MLB's infamous color line and forever changing history.
X-ALT-DESC;FMTTYPE=text/html:In 1946\, Branch Rickey signed Jackie Robinson to the Brooklyn Dodgers\, breaking MLB&#39\;s infamous color line and forever changing history.
LOCATION:Central Library
UID:e.2338.436
SEQUENCE:3
DTSTAMP:20260422T015053Z
URL:https://chamber.hrchamber.org/events/details/summer-cinema-central-07-16-2016-436
END:VEVENT

END:VCALENDAR
