BEGIN:VCALENDAR
VERSION:2.0
PRODID:-//ChamberMaster//Event Calendar 2.0//EN
METHOD:PUBLISH
X-PUBLISHED-TTL:P3D
REFRESH-INTERVAL:P3D
CALSCALE:GREGORIAN
BEGIN:VEVENT
DTSTART:20160709T170000Z
DTEND:20160709T190000Z
X-MICROSOFT-CDO-ALLDAYEVENT:FALSE
SUMMARY:Summer Cinema @ Central
DESCRIPTION:Kevin Costner stars in a heartwarming celebration of the human spirit. Check film title www.mrlib.org/cinema. It is rated PG and is part of the Adult Reading Program.
X-ALT-DESC;FMTTYPE=text/html:Kevin Costner stars in a heartwarming celebration of the human spirit. Check film title www.mrlib.org/cinema. It is rated PG and is part of the Adult Reading Program.
LOCATION:Central Library
UID:e.2338.435
SEQUENCE:3
DTSTAMP:20260422T015053Z
URL:https://chamber.hrchamber.org/events/details/summer-cinema-central-07-09-2016-435
END:VEVENT

END:VCALENDAR
