BEGIN:VCALENDAR
VERSION:2.0
PRODID:-//ChamberMaster//Event Calendar 2.0//EN
METHOD:PUBLISH
X-PUBLISHED-TTL:P3D
REFRESH-INTERVAL:P3D
CALSCALE:GREGORIAN
BEGIN:VEVENT
DTSTART:20180524T210000Z
DTEND:20180525T000000Z
X-MICROSOFT-CDO-ALLDAYEVENT:FALSE
SUMMARY:Steven Nissan Open House & Ribbon Cutting
DESCRIPTION:Ribbon Cutting at 5:30 p.m.
X-ALT-DESC;FMTTYPE=text/html:Ribbon Cutting at 5:30 p.m.
LOCATION:Steven Nissan 2275 East Market Street\, Harrisonburg\, VA 22801
UID:e.2338.5816
SEQUENCE:3
DTSTAMP:20260420T131753Z
URL:https://chamber.hrchamber.org/events/details/steven-nissan-open-house-ribbon-cutting-5816
END:VEVENT

END:VCALENDAR
