BEGIN:VCALENDAR
VERSION:2.0
PRODID:-//ChamberMaster//Event Calendar 2.0//EN
METHOD:PUBLISH
X-PUBLISHED-TTL:P3D
REFRESH-INTERVAL:P3D
CALSCALE:GREGORIAN
BEGIN:VEVENT
DTSTART:20170603T130000Z
DTEND:20170603T170000Z
X-MICROSOFT-CDO-ALLDAYEVENT:FALSE
SUMMARY:Stash Blast - A Fabric Flea Market
DESCRIPTION:Tons of fabric to choose from! Yardage\, pre-cuts\, and fabric of all sizes and design will be available. Build your stash for quilting or other projects AND support the Museum at the same time!. Sold $8 per pound (2.50-$3.50 per yard average). Cash or check only! All proceeds to benefit the Virginia Quilt Museum.
X-ALT-DESC;FMTTYPE=text/html:Tons of fabric to choose from! Yardage\, pre-cuts\, and fabric of all sizes and design will be available. Build your stash for quilting or other projects AND support the Museum at the same time!. Sold $8 per pound (2.50-$3.50 per yard average). Cash or check only! All proceeds to benefit the Virginia Quilt Museum.
LOCATION:Asbury Methodist Church (Lower Level) 205 S. Main St. Harrisonburg\, VA
UID:e.2338.2703
SEQUENCE:3
DTSTAMP:20260419T220715Z
URL:https://chamber.hrchamber.org/events/details/stash-blast-a-fabric-flea-market-2703
END:VEVENT

END:VCALENDAR
