BEGIN:VCALENDAR
VERSION:2.0
PRODID:-//ChamberMaster//Event Calendar 2.0//EN
METHOD:PUBLISH
X-PUBLISHED-TTL:P3D
REFRESH-INTERVAL:P3D
CALSCALE:GREGORIAN
BEGIN:VEVENT
DTSTART:20161112T143000Z
DTEND:20161112T220000Z
X-MICROSOFT-CDO-ALLDAYEVENT:FALSE
SUMMARY:SPRINT SUPER SATURDAY
DESCRIPTION:Make it a super day of learning and fun. Explore technology\, make your own inventions\, experiment with electronics and more. Learn how to get your free admission pass at www.iExploreMore.com/SuperSaturday Sponsored by Sprint
X-ALT-DESC;FMTTYPE=text/html:Make it a super day of learning and fun. Explore technology\, make your own inventions\, experiment with electronics and more. Learn how to get your free admission pass at www.iExploreMore.com/SuperSaturday Sponsored by Sprint
LOCATION:Explore More Discovery Museum 150 South Main Street Harrisonburg\, VA 22801
UID:e.2338.1508
SEQUENCE:3
DTSTAMP:20260421T201431Z
URL:https://chamber.hrchamber.org/events/details/sprint-super-saturday-1508
END:VEVENT

END:VCALENDAR
