BEGIN:VCALENDAR
VERSION:2.0
PRODID:-//ChamberMaster//Event Calendar 2.0//EN
METHOD:PUBLISH
X-PUBLISHED-TTL:P3D
REFRESH-INTERVAL:P3D
CALSCALE:GREGORIAN
BEGIN:VEVENT
DTSTART:20190410T123000Z
DTEND:20190410T210000Z
X-MICROSOFT-CDO-ALLDAYEVENT:FALSE
SUMMARY:SPQA Baldrige 101 Traning
DESCRIPTION:Baldrige 101: Introduction to the Baldrige Framework\, is a one-day workshop where participants become familiar with the basics of the Framework its Core Values\, the Criteria\, guidelines for evaluating processes and results\, and an introduction to applying the Framework in an organization.  The session\, which is case study-based and includes exercises to practice the elements of the Framework\, is taught by experienced members of the SPQA and Baldrige communities.   Baldrige 101 sessions are offered in different regions of the Commonwealth and Washington\, DC throughout the year.  Some participants represent their organizations individually\, while some come as workplace duos or teams.  Additionally\, individuals interested in being SPQA Examiners must take the Baldrige 101 course every two years to ensure familiarity with the most updated version of the Framework.\n\nIf an organization has a significant number of employees who would benefit from learning about the Framework\, it may arrange to have Baldrige 101 taught on-site.  In those situations\, the trainers typically customize the training by using the organization\, itself\, as the case study\, allowing the participants to apply the Baldrige principles directly to their own workplace.
X-ALT-DESC;FMTTYPE=text/html:<p style="box-sizing: inherit\; margin: 0px 0px 1rem\; padding: 0px\; font-size: 16px\; line-height: 1.6\; text-rendering: optimizelegibility\; color: rgb(64\, 69\, 74)\; font-family: &quot\;Open Sans&quot\;\, sans-serif\; background-color: rgb(254\, 254\, 254)\;"><em style="box-sizing: inherit\; line-height: inherit\;">Baldrige 101: Introduction to the Baldrige Framework</em>\, is a one-day workshop where participants become familiar with the basics of the Framework&mdash\;its Core Values\, the Criteria\, guidelines for evaluating processes and results\, and an introduction to applying the Framework in an organization.&nbsp\; The session\, which is case study-based and includes exercises to practice the elements of the Framework\, is taught by experienced members of the SPQA and Baldrige communities.&nbsp\;&nbsp\;&nbsp\;<em style="box-sizing: inherit\; line-height: inherit\;">Baldrige 101</em>&nbsp\;sessions are offered in different regions of the Commonwealth and Washington\, DC throughout the year.&nbsp\; Some participants represent their organizations individually\, while some come as workplace duos or teams.&nbsp\; Additionally\, individuals interested in being SPQA Examiners must take the&nbsp\;<em style="box-sizing: inherit\; line-height: inherit\;">Baldrige 101</em>&nbsp\;course every two years to ensure familiarity with the most updated version of the Framework.</p>\n\n<p style="box-sizing: inherit\; margin: 0px 0px 1rem\; padding: 0px\; font-size: 16px\; line-height: 1.6\; text-rendering: optimizelegibility\; color: rgb(64\, 69\, 74)\; font-family: &quot\;Open Sans&quot\;\, sans-serif\; background-color: rgb(254\, 254\, 254)\;">If an organization has a significant number of employees who would benefit from learning about the Framework\, it may arrange to have&nbsp\;<em style="box-sizing: inherit\; line-height: inherit\;">Baldrige 101</em>&nbsp\;taught on-site.&nbsp\; In those situations\, the trainers typically customize the training by using the organization\, itself\, as the case study\, allowing the participants to apply the Baldrige principles directly to their own workplace.</p>\n
LOCATION:Stellar Solutions 14425 Penrose Pl Suite 400 Chantilly\, Virginia 20151
UID:e.2338.6339
SEQUENCE:3
DTSTAMP:20260420T000333Z
URL:https://chamber.hrchamber.org/events/details/spqa-baldrige-101-traning-6339
END:VEVENT

END:VCALENDAR
