BEGIN:VCALENDAR
VERSION:2.0
PRODID:-//ChamberMaster//Event Calendar 2.0//EN
METHOD:PUBLISH
X-PUBLISHED-TTL:P3D
REFRESH-INTERVAL:P3D
CALSCALE:GREGORIAN
BEGIN:VEVENT
DTSTART:20180614T180000Z
DTEND:20180614T200000Z
X-MICROSOFT-CDO-ALLDAYEVENT:FALSE
SUMMARY:Speed Networking at Brothers Craft Brewing
DESCRIPTION:Back by popular demand! The Harrisonburg-Rockingham Chamber of Commerce will host our summer Speed Networking Event on Thursday\, June 14!  The event will be held at the Brothers Craft Brewing from 2:30-4:00 p.m. Stick around and continue your conversations over a craft brew and dinner from local food truck\, Nacho Bizness. This is a great opportunity to meet local business and community leaders in a fun atmosphere. \n\n\n\nDon't miss your opportunity to participate in one of your Chamber's most popular events!
X-ALT-DESC;FMTTYPE=text/html:<span style="font-family:arial\;"><span style="font-size: 10pt\;">Back by popular demand! The Harrisonburg-Rockingham Chamber of Commerce will host our summer Speed Networking Event on Thursday\, June 14!&nbsp\; The event will be held at the <a href="https://www.brotherscraftbrewing.com/" target="_blank">Brothers Craft Brewing</a> from 2:30-4:00 p.m. Stick around and continue your conversations over a craft brew and dinner from local food truck\, Nacho Bizness. This is a great opportunity to meet local business and community leaders in a fun atmosphere. </span><br />\n<br />\n<span style="font-size: 10pt\;">Don&rsquo\;t miss your opportunity to participate in one of your Chamber&rsquo\;s most popular events!</span></span>
LOCATION:Brothers Craft Brewing 800 North Main Street Harrisonburg\, VA 22802
UID:e.2338.3746
SEQUENCE:3
DTSTAMP:20260420T144910Z
URL:https://chamber.hrchamber.org/events/details/speed-networking-at-brothers-craft-brewing-3746
END:VEVENT

END:VCALENDAR
