BEGIN:VCALENDAR
VERSION:2.0
PRODID:-//ChamberMaster//Event Calendar 2.0//EN
METHOD:PUBLISH
X-PUBLISHED-TTL:P3D
REFRESH-INTERVAL:P3D
CALSCALE:GREGORIAN
BEGIN:VEVENT
DTSTART:20180419T190000Z
DTEND:20180419T210000Z
X-MICROSOFT-CDO-ALLDAYEVENT:FALSE
SUMMARY:Speed Networking
DESCRIPTION:Back by popular demand! The Harrisonburg-Rockingham Chamber of Commerce will host Speed Networking on April 19!  The event will be held at the DoubleTree by Hilton from 3:00-5:00 p.m. with an optional Maxwell Speaker's Club   Harrisonburg Launch Presentation\, speaking for Influence & Impact:  Why Speaking Skills Are Essential for Every Leader\, presented by Cindy Dove of Dove Development and Consulting at 2:15. This will be a great opportunity to meet local business leaders!  \n\n\n\nDon't miss your opportunity to be a part of the Chamber's most popular events!
X-ALT-DESC;FMTTYPE=text/html:<span style="font-size:11px\;"><span style="font-family:verdana\;">Back by popular demand! The Harrisonburg-Rockingham Chamber of Commerce will host Speed Networking on April 19!&nbsp\; The event will be held at the DoubleTree&nbsp\;by Hilton from 3:00-5:00 p.m. with an optional Maxwell Speaker&rsquo\;s Club &ndash\; Harrisonburg Launch Presentation\, speaking for Influence &amp\; Impact:&nbsp\; Why Speaking Skills Are Essential for Every Leader\, presented by Cindy Dove of Dove Development and Consulting at 2:15. This will be a great opportunity to meet local business leaders!&nbsp\;&nbsp\;<br />\n<br />\nDon&rsquo\;t miss your opportunity to be a part of the Chamber&rsquo\;s most popular events!</span></span>
LOCATION:DoubleTree by Hilton 1400 E Market Street Harrisonburg\, VA 22801
UID:e.2338.3735
SEQUENCE:3
DTSTAMP:20260420T113603Z
URL:https://chamber.hrchamber.org/events/details/speed-networking-3735
END:VEVENT

END:VCALENDAR
