BEGIN:VCALENDAR
VERSION:2.0
PRODID:-//ChamberMaster//Event Calendar 2.0//EN
METHOD:PUBLISH
X-PUBLISHED-TTL:P3D
REFRESH-INTERVAL:P3D
CALSCALE:GREGORIAN
BEGIN:VEVENT
DTSTART:20151020T120000Z
DTEND:20151020T140000Z
X-MICROSOFT-CDO-ALLDAYEVENT:FALSE
SUMMARY:Speed Networking
DESCRIPTION:Back by popular demand! Harrisonburg-Rockingham Chamber of Commerce will host Speed Networking on October 20th!  The event will be held October 20th\, 2015 at American National University from 8:00-10:00 a.m. This will be a great opportunity to meet up local business people!  Ignite Speed Networking takes the energy and excitement of one-on-one networking and infuses effectiveness and comfort to make the most revolutionary networking event you'll ever experience!  Instead of meeting just one person at a time\, participants meet at tables of 4-10 for comfortable networking sessions that last 5-12 minutes each. \n\n \n\nDon't miss your opportunity to be a part of the Chamber's most popular events!
X-ALT-DESC;FMTTYPE=text/html:<span style="font-family:cambria\,serif\;"><span style="font-size:10.0pt\;">Back by popular demand! Harrisonburg-Rockingham Chamber of Commerce will host Speed Networking on October 20th!&nbsp\; The event will be held October 20th\, 2015 at American National University from 8:00-10:00 a.m. This will be a great opportunity to meet up local business people!&nbsp\; Ignite Speed Networking takes the energy and excitement of one-on-one networking and infuses effectiveness and comfort to make the most revolutionary networking event you&rsquo\;ll ever experience!&nbsp\; Instead of meeting just one person at a time\, participants meet at tables of 4-10 for comfortable networking sessions that last 5-12 minutes each. </span></span><br />\n&nbsp\;<br />\n<span style="font-family:cambria\,serif\;"><span style="font-size:10.0pt\;">Don&rsquo\;t miss your opportunity to be a part of the Chamber&rsquo\;s most popular events!</span></span>
LOCATION:American National University 1515 Country Club Road Harrisonburg\, VA 22802
UID:e.2338.264
SEQUENCE:3
DTSTAMP:20260424T142727Z
URL:https://chamber.hrchamber.org/events/details/speed-networking-10-20-2015-264
END:VEVENT

END:VCALENDAR
