BEGIN:VCALENDAR
VERSION:2.0
PRODID:-//ChamberMaster//Event Calendar 2.0//EN
METHOD:PUBLISH
X-PUBLISHED-TTL:P3D
REFRESH-INTERVAL:P3D
CALSCALE:GREGORIAN
BEGIN:VEVENT
DTSTART:20170320T220000Z
DTEND:20170420T000000Z
X-MICROSOFT-CDO-ALLDAYEVENT:FALSE
SUMMARY:Spanish Conversation Class (Level 1)
DESCRIPTION:Would you like to communicate with Spanish speakers in your workplace\, neighborhood or out in the community? If so\, join our Level 1 Spanish Conversation Class beginning March 20th. Meets Monday & Wednesday nights from 6-8pm for 5 weeks. Last class is April 19th! Cost is $125 and class size is limited!
X-ALT-DESC;FMTTYPE=text/html:Would you like to communicate with Spanish speakers in your workplace\, neighborhood or out in the community? If so\, join our Level 1 Spanish Conversation Class beginning March 20th. Meets Monday &amp\; Wednesday nights from 6-8pm for 5 weeks. Last class is April 19th! Cost is $125 and class size is limited!
LOCATION:Skyline Literacy\, 160 N. Mason St. Harrisonburg VA
UID:e.2338.1556
SEQUENCE:3
DTSTAMP:20260421T120744Z
URL:https://chamber.hrchamber.org/events/details/spanish-conversation-class-level-1-1556
END:VEVENT

END:VCALENDAR
