BEGIN:VCALENDAR
VERSION:2.0
PRODID:-//ChamberMaster//Event Calendar 2.0//EN
METHOD:PUBLISH
X-PUBLISHED-TTL:P3D
REFRESH-INTERVAL:P3D
CALSCALE:GREGORIAN
BEGIN:VEVENT
DTSTART:20170518T210000Z
DTEND:20170518T230000Z
X-MICROSOFT-CDO-ALLDAYEVENT:FALSE
SUMMARY:Solace Studios BAH Event RSVP
DESCRIPTION:Solace Studios Business After Hours
X-ALT-DESC;FMTTYPE=text/html:Solace Studios Business After Hours
LOCATION:Solace Studios 193 W Spotswood Ave\, Elkton\, VA 22827
UID:e.2338.1527
SEQUENCE:3
DTSTAMP:20260419T191705Z
URL:https://chamber.hrchamber.org/events/details/solace-studios-bah-event-rsvp-1527
END:VEVENT

END:VCALENDAR
