BEGIN:VCALENDAR
VERSION:2.0
PRODID:-//ChamberMaster//Event Calendar 2.0//EN
METHOD:PUBLISH
X-PUBLISHED-TTL:P3D
REFRESH-INTERVAL:P3D
CALSCALE:GREGORIAN
BEGIN:VEVENT
DTSTART:20190516T230000Z
DTEND:20190517T010000Z
X-MICROSOFT-CDO-ALLDAYEVENT:FALSE
SUMMARY:Snow White and the Seven Dwarfs
DESCRIPTION:Snow White and the Seven Dwarfs\n\n?Adapted from the Brothers Grimm by Catherine Bush\n\nOriginal Music Composed by Tonya Holland\n\nDirected by Ron Smith\n\n\n\nThe beautiful Snow White is forced to flee her home when the wicked queen's jealously threatens her life. Snow White soon makes friends with seven dwarfs who take her into their home. When the queen learns that Snow White is still alive\, it takes the love of a handsome hero and the courage of her newfound friends to save the day.
X-ALT-DESC;FMTTYPE=text/html:Snow White and the Seven Dwarfs<br />\n?Adapted from the Brothers Grimm by Catherine Bush<br />\nOriginal Music Composed by Tonya Holland<br />\nDirected by Ron Smith<br />\n<br />\nThe beautiful Snow White is forced to flee her home when the wicked queen&rsquo\;s jealously threatens her life. Snow White soon makes friends with seven dwarfs who take her into their home. When the queen learns that Snow White is still alive\, it takes the love of a handsome hero and the courage of her newfound friends to save the day.&nbsp\;
LOCATION:J. Frank Hillyard Auditorium 226 Hawks Hill Drive Broadway\, Virginia 22815
UID:e.2338.6574
SEQUENCE:3
DTSTAMP:20260419T224525Z
URL:https://chamber.hrchamber.org/events/details/snow-white-and-the-seven-dwarfs-6574
END:VEVENT

END:VCALENDAR
