BEGIN:VCALENDAR
VERSION:2.0
PRODID:-//ChamberMaster//Event Calendar 2.0//EN
METHOD:PUBLISH
X-PUBLISHED-TTL:P3D
REFRESH-INTERVAL:P3D
CALSCALE:GREGORIAN
BEGIN:VEVENT
DTSTART;VALUE=DATE:20171125
DTEND;VALUE=DATE:20171126
TRANSP:TRANSPARENT
X-MICROSOFT-CDO-ALLDAYEVENT:TRUE
SUMMARY:Small Business Saturday
DESCRIPTION:Visit https://www.americanexpress.com/us/small-business/shop-small/ for more information.
X-ALT-DESC;FMTTYPE=text/html:Visit https://www.americanexpress.com/us/small-business/shop-small/ for more information.
LOCATION:
UID:e.2338.3316
SEQUENCE:3
DTSTAMP:20260420T054111Z
URL:https://chamber.hrchamber.org/events/details/small-business-saturday-3316
END:VEVENT

END:VCALENDAR
