BEGIN:VCALENDAR
VERSION:2.0
PRODID:-//ChamberMaster//Event Calendar 2.0//EN
METHOD:PUBLISH
X-PUBLISHED-TTL:P3D
REFRESH-INTERVAL:P3D
CALSCALE:GREGORIAN
BEGIN:VEVENT
DTSTART:20150913T180000Z
DTEND:20150913T203000Z
X-MICROSOFT-CDO-ALLDAYEVENT:FALSE
SUMMARY:Skyline Literacy Volunteer Tutor Orientation
DESCRIPTION:Two hours a week can change a life\, a family\, and a community! Become a volunteer tutor and help an adult reach their potential. No experience or special skills required. This Tutor Orientation session is an introduction to and prerequisite for tutoring Basic Literacy (reading and writing)\, ESOL (English for Speakers of Other Languages)\, and citizenship preparation. To register or for more information\, contact us at skylineliteracy@gmail.com or (540) 433-0505.
X-ALT-DESC;FMTTYPE=text/html:Two hours a week can change a life\, a family\, and a community! Become a volunteer tutor and help an adult reach their potential. No experience or special skills required. This Tutor Orientation session is an introduction to and prerequisite for tutoring Basic Literacy (reading and writing)\, ESOL (English for Speakers of Other Languages)\, and citizenship preparation. To register or for more information\, contact us at skylineliteracy@gmail.com or (540) 433-0505.
LOCATION:Skyline Literacy 975 S. High St. Harrisonburg\, VA 22801
UID:e.2338.283
SEQUENCE:3
DTSTAMP:20260424T161450Z
URL:https://chamber.hrchamber.org/events/details/skyline-literacy-volunteer-tutor-orientation-09-13-2015-283
END:VEVENT

END:VCALENDAR
