BEGIN:VCALENDAR
VERSION:2.0
PRODID:-//ChamberMaster//Event Calendar 2.0//EN
METHOD:PUBLISH
X-PUBLISHED-TTL:P3D
REFRESH-INTERVAL:P3D
CALSCALE:GREGORIAN
BEGIN:VEVENT
DTSTART:20150919T130000Z
DTEND:20150919T160000Z
X-MICROSOFT-CDO-ALLDAYEVENT:FALSE
SUMMARY:Skyline Literacy Volunteer ESOL Tutor Training
DESCRIPTION:Did you know that almost one out of every five families in Harrisonburg speak a language other than English at home? Become a volunteer tutor with Skyline Literacy and help parents\, employees\, and other adult community members improve their English language skills. No teaching experience nor knowledge of another language required. Learn all you need to know about teaching/tutoring English for Speakers of Other Languages at our FREE training! To register or for more information\, contact us at skylineliteracy@gmail.com or (540) 433-0505. *Attendance at one of Skyline Literacy's Tutor Orientation sessions is required: Aug. 16th 2:00-4:30pm\, or Sept. 13th 2:00-4:30pm.*
X-ALT-DESC;FMTTYPE=text/html:Did you know that almost one out of every five families in Harrisonburg speak a language other than English at home? Become a volunteer tutor with Skyline Literacy and help parents\, employees\, and other adult community members improve their English language skills. No teaching experience nor knowledge of another language required. Learn all you need to know about teaching/tutoring English for Speakers of Other Languages at our FREE training! To register or for more information\, contact us at skylineliteracy@gmail.com or (540) 433-0505. *Attendance at one of Skyline Literacy&#39\;s Tutor Orientation sessions is required: Aug. 16th 2:00-4:30pm\, or Sept. 13th 2:00-4:30pm.*
LOCATION:Skyline Literacy 975 S. High St. Harrisonburg\, VA 22801
UID:e.2338.285
SEQUENCE:3
DTSTAMP:20260424T161024Z
URL:https://chamber.hrchamber.org/events/details/skyline-literacy-volunteer-esol-tutor-training-09-19-2015-285
END:VEVENT

END:VCALENDAR
