BEGIN:VCALENDAR
VERSION:2.0
PRODID:-//ChamberMaster//Event Calendar 2.0//EN
METHOD:PUBLISH
X-PUBLISHED-TTL:P3D
REFRESH-INTERVAL:P3D
CALSCALE:GREGORIAN
BEGIN:VEVENT
DTSTART:20150919T170000Z
DTEND:20150919T200000Z
X-MICROSOFT-CDO-ALLDAYEVENT:FALSE
SUMMARY:Skyline Literacy Volunteer Citizenship Tutor Training
DESCRIPTION:Did you know that Skyline Literacy helps more than 50 immigrants each year to become United States citizens? Become a volunteer tutor with Skyline Literacy and help adults prepare for the speaking\, reading\, writing\, and civics portions of the U.S. Citizenship exam. No experience or special skills required. Learn all you need to know about tutoring citizenship at this FREE training. To register or for more information\, contact us at skylineliteracy@gmail.com or (540) 433-0505. *Attendance at one of Skyline Literacy's Tutor Orientation sessions is required: Aug. 16th 2:00-4:30pm\, or Sept. 13th 2:00-4:30pm.*
X-ALT-DESC;FMTTYPE=text/html:Did you know that Skyline Literacy helps more than 50 immigrants each year to become United States citizens? Become a volunteer tutor with Skyline Literacy and help adults prepare for the speaking\, reading\, writing\, and civics portions of the U.S. Citizenship exam. No experience or special skills required. Learn all you need to know about tutoring citizenship at this FREE training. To register or for more information\, contact us at skylineliteracy@gmail.com or (540) 433-0505. *Attendance at one of Skyline Literacy&#39\;s Tutor Orientation sessions is required: Aug. 16th 2:00-4:30pm\, or Sept. 13th 2:00-4:30pm.*
LOCATION:Skyline Literacy 975 S. High St. Harrisonburg\, VA 22801
UID:e.2338.287
SEQUENCE:3
DTSTAMP:20260424T161044Z
URL:https://chamber.hrchamber.org/events/details/skyline-literacy-volunteer-citizenship-tutor-training-09-19-2015-287
END:VEVENT

END:VCALENDAR
