BEGIN:VCALENDAR
VERSION:2.0
PRODID:-//ChamberMaster//Event Calendar 2.0//EN
METHOD:PUBLISH
X-PUBLISHED-TTL:P3D
REFRESH-INTERVAL:P3D
CALSCALE:GREGORIAN
BEGIN:VEVENT
DTSTART:20151004T180000Z
DTEND:20151004T203000Z
X-MICROSOFT-CDO-ALLDAYEVENT:FALSE
SUMMARY:Skyline Literacy's Play for Literacy SCRABBLE Tournament
DESCRIPTION:Skyline Literacy invites you to.... Come and play SCRABBLE  Sunday\, October 4th! All proceeds from the tournament will go toward programs to help adults struggling with literacy skills. This is a Team Play tournament. Bring a team of 3 or be matched with other individual players and make new friends! Prizes will be awarded in several categories. Light refreshments will be served! Be sure to visit http://skylineliteracy.org/ and http://www.eventbrite.com/e/play-for-literacy-scrabble-tournament-tickets-15253205749 to register or for more info!
X-ALT-DESC;FMTTYPE=text/html:Skyline Literacy invites you to.... Come and play SCRABBLE&reg\; Sunday\, October 4th! All proceeds from the tournament will go toward programs to help adults struggling with literacy skills. This is a Team Play tournament. Bring a team of 3 or be matched with other individual players and make new friends! Prizes will be awarded in several categories. Light refreshments will be served! Be sure to visit http://skylineliteracy.org/ and http://www.eventbrite.com/e/play-for-literacy-scrabble-tournament-tickets-15253205749 to register or for more info!
LOCATION:Skyline Middle School\, 470 Linda Lane\, Harrisonburg\, VA.
UID:e.2338.296
SEQUENCE:3
DTSTAMP:20260424T145156Z
URL:https://chamber.hrchamber.org/events/details/skyline-literacy-s-play-for-literacy-scrabble-tournament-10-04-2015-296
END:VEVENT

END:VCALENDAR
