BEGIN:VCALENDAR
VERSION:2.0
PRODID:-//ChamberMaster//Event Calendar 2.0//EN
METHOD:PUBLISH
X-PUBLISHED-TTL:P3D
REFRESH-INTERVAL:P3D
CALSCALE:GREGORIAN
BEGIN:VEVENT
DTSTART:20171021T200000Z
DTEND:20171022T010000Z
X-MICROSOFT-CDO-ALLDAYEVENT:FALSE
SUMMARY:Skeleton Festival
DESCRIPTION:Harrisonburg's pre-Halloween party kicks off with trick-or-treating at downtown businesses\, from 4-6pm\, and culminates with a fun\, all-ages party at the Turner Pavilion & Park. The festival features kid\, dog\, and adult costume contests\; lots of activities\; food trucks\; live music\; video art\; trunk-or-treating\; wacky shacks\, goober blobs\, and whisker biscuits. For more information\, please visit www.skeletonfestival.com.
X-ALT-DESC;FMTTYPE=text/html:<p><span style="color:rgb(0\, 0\, 0)\; font-family:arial\; font-size:11.5pt">Harrisonburg&#39\;s pre-Halloween party kicks off with trick-or-treating at downtown businesses\, from 4-6pm\, and culminates with a fun\, all-ages party at the Turner Pavilion &amp\; Park. The festival features kid\, dog\, and adult costume contests\; lots of activities\; food trucks\; live music\; video art\; trunk-or-treating\; wacky shacks\, goober blobs\, and whisker biscuits. For more information\, please visit </span><a href="http://www.skeletonfestival.com" style="text-decoration-line: none\;"><span style="color:rgb(17\, 85\, 204)\; font-family:arial\; font-size:11.5pt">www.skeletonfestival.com</span></a><span style="color:rgb(0\, 0\, 0)\; font-family:arial\; font-size:11.5pt">. </span></p>\n\n<div>&nbsp\;</div>\n
LOCATION:Turner Pavilion & Park 228 S. Liberty Street Harrisonburg\, Virginia 22801
UID:e.2338.3257
SEQUENCE:3
DTSTAMP:20260420T024224Z
URL:https://chamber.hrchamber.org/events/details/skeleton-festival-3257
END:VEVENT

END:VCALENDAR
