BEGIN:VCALENDAR
VERSION:2.0
PRODID:-//ChamberMaster//Event Calendar 2.0//EN
METHOD:PUBLISH
X-PUBLISHED-TTL:P3D
REFRESH-INTERVAL:P3D
CALSCALE:GREGORIAN
BEGIN:VEVENT
DTSTART:20181020T200000Z
DTEND:20181021T020000Z
X-MICROSOFT-CDO-ALLDAYEVENT:FALSE
SUMMARY:Skeleton Festival
DESCRIPTION:Harrisonburg's pre-Halloween party blends aspects of Halloween and Dia de los Muertos in a big\, community celebration. Activities kicks off with trick-or-treating at downtown businesses from 4-6pm\, and culminates with a fun\, all-ages party at the Turner Pavilion & Park. The festival features kid\, dog\, and adult costume contests\; arts and crafts activities\; a community ofrenda\; food trucks\; DJ dance party\; light show\; wacky shacks\, goober blobs\, and whisker biscuits.
X-ALT-DESC;FMTTYPE=text/html:<p>Harrisonburg&#39\;s pre-Halloween party blends aspects of Halloween and Dia de los Muertos in a big\, community celebration. Activities kicks off with trick-or-treating at downtown businesses from 4-6pm\, and culminates with a fun\, all-ages party at the Turner Pavilion &amp\; Park. The festival features kid\, dog\, and adult costume contests\; arts and crafts activities\; a community ofrenda\; food trucks\; DJ dance party\; light show\; wacky shacks\, goober blobs\, and whisker biscuits.&nbsp\;</p>\n
LOCATION:Turner Pavilion and Park
UID:e.2338.6056
SEQUENCE:3
DTSTAMP:20260420T091214Z
URL:https://chamber.hrchamber.org/events/details/skeleton-festival-10-20-2018-6056
END:VEVENT

END:VCALENDAR
