BEGIN:VCALENDAR
VERSION:2.0
PRODID:-//ChamberMaster//Event Calendar 2.0//EN
METHOD:PUBLISH
X-PUBLISHED-TTL:P3D
REFRESH-INTERVAL:P3D
CALSCALE:GREGORIAN
BEGIN:VEVENT
DTSTART;VALUE=DATE:20180213
DTEND;VALUE=DATE:20180215
TRANSP:TRANSPARENT
X-MICROSOFT-CDO-ALLDAYEVENT:TRUE
SUMMARY:SINGING VALENTINES
DESCRIPTION:A unique and wonderful way for you to surprise your sweetheart\, family\, staff\, colleagues\, friends or just about anyone who you want to remember on Valentines Day.\n\n \n\nPurchase a Singing Valentine from the Harrisonburg Harmonizers and for $40 a barbershop quartet will deliver a Song\, a Personalized Card and a Rose to homes\, job sites\, offices\, restaurants\, nursing homes\, hospitals and most location in Augusta\, Rockingham or Shenandoah Counties.\n\n\n\n20% Discount For HR Chamber Members
X-ALT-DESC;FMTTYPE=text/html:A unique and wonderful way for you to surprise your sweetheart\, family\, staff\, colleagues\, friends or just about anyone who you want to remember on Valentines Day.<br />\n&nbsp\;<br />\nPurchase a Singing Valentine from the Harrisonburg Harmonizers and for $40 a barbershop quartet will deliver a Song\, a Personalized Card and a Rose to homes\, job sites\, offices\, restaurants\, nursing homes\, hospitals and most location in Augusta\, Rockingham or Shenandoah Counties.<br />\n<br />\n20% Discount For HR Chamber Members
LOCATION:
UID:e.2338.3592
SEQUENCE:3
DTSTAMP:20260420T100501Z
URL:https://chamber.hrchamber.org/events/details/singing-valentines-3592
END:VEVENT

END:VCALENDAR
