BEGIN:VCALENDAR
VERSION:2.0
PRODID:-//ChamberMaster//Event Calendar 2.0//EN
METHOD:PUBLISH
X-PUBLISHED-TTL:P3D
REFRESH-INTERVAL:P3D
CALSCALE:GREGORIAN
BEGIN:VEVENT
DTSTART;VALUE=DATE:20180123
DTEND;VALUE=DATE:20180213
TRANSP:TRANSPARENT
X-MICROSOFT-CDO-ALLDAYEVENT:TRUE
SUMMARY:Singing Valentine
DESCRIPTION:On Tuesday and Wednesday\, February 13 and 14\, a quartet from the Harrisonburg Harmonizers will sing two songs to your loved one\, wherever you wish\, and present a Valentine's card and a red rose to that special person in your life! $40 for regular delivery. $50 for exact-time delivery.\n\n20 % off for HR Members
X-ALT-DESC;FMTTYPE=text/html:<p style="language:en-US\;margin-top:0pt\;margin-bottom:0pt\;text-align:center\;\ndirection:ltr\;unicode-bidi:embed\;vertical-align:baseline"><span style="font-family:verdana\;"><span style="font-size: 16pt\; font-weight: bold\;">On Tuesday and Wednesday\, February 13 and 14\, a quartet from the Harrisonburg Harmonizers will sing two songs to your loved one\, wherever you wish\, and present </span></span><span style="font-size: 16pt\; font-family: Arial\; font-weight: bold\;"><span style="font-family:verdana\;">a Valentine&rsquo\;s</span></span><span style="font-family:verdana\;"><span style="font-size: 16pt\; font-weight: bold\;"> card and a red rose to that special person in your life! $40 for regular delivery. $50 for exact-time delivery.</span></span><br />\n<span style="language:en-US\;font-weight:bold\;font-style:italic\;"><span style="color:red\;"><span style="font-family:arial\;"><span style="font-size:16.0pt\;">20 % off for HR Members</span></span></span></span><br />\n<br />\n&nbsp\;</p>\n
LOCATION:
UID:e.2338.3598
SEQUENCE:3
DTSTAMP:20260420T072451Z
URL:https://chamber.hrchamber.org/events/details/singing-valentine-3598
END:VEVENT

END:VCALENDAR
