BEGIN:VCALENDAR
VERSION:2.0
PRODID:-//ChamberMaster//Event Calendar 2.0//EN
METHOD:PUBLISH
X-PUBLISHED-TTL:P3D
REFRESH-INTERVAL:P3D
CALSCALE:GREGORIAN
BEGIN:VEVENT
DTSTART:20220903T140000Z
DTEND:20220903T190000Z
X-MICROSOFT-CDO-ALLDAYEVENT:FALSE
SUMMARY:Shop Small Y'all Market
DESCRIPTION:We can't wait for you to join us again for Shop Small Y'all on Saturday\, September 3rd from 10A-3P!\n\nWe have so many amazing small businesses in the line up + it's going to be a great day!\n\nVendor Line Up:\n\n2 Little Birdies - Jewelry\n\nAya Clay - Pottery\n\nB.Leigh.Boutique - Secondhand Clothing + Accessories\n\nClean Candles - Candles\n\nGoodness Gracious - Light Breakfast + Lunch Options\n\nJustFries - Boardwalk French Fries\n\nThe Mamie Jane Co - Jewelry\n\nThe Paper Nest Studio - Macrame Designs\n\nVillage to Village - Guatemalan Handicrafts + Secondhand Finds\n\nWoven + Wood - Refurbished Furniture + Home Decor\n\n\n\nPlus stop in the shoppe + pickup a new fair trade or survivor made goodie for fall!
X-ALT-DESC;FMTTYPE=text/html:<div>\n<p><span style="background-color:transparent\; font-family:arial\; font-size:10pt">We can&#39\;t wait for you to join us again for Shop Small Y&#39\;all on Saturday\, September 3rd from 10A-3P!</span></p>\n\n<p><span style="background-color:transparent\; font-family:arial\; font-size:10pt">We have so many amazing small businesses in the line up + it&#39\;s going to be a great day!</span></p>\n\n<p><span style="background-color:transparent\; font-family:arial\; font-size:10pt">Vendor Line Up:</span></p>\n\n<p><span style="background-color:transparent\; font-family:arial\; font-size:10pt">2 Little Birdies - Jewelry</span></p>\n\n<p><span style="background-color:transparent\; font-family:arial\; font-size:10pt">Aya Clay - Pottery</span></p>\n\n<p><span style="background-color:transparent\; font-family:arial\; font-size:10pt">B.Leigh.Boutique - Secondhand Clothing + Accessories</span></p>\n\n<p><span style="background-color:transparent\; font-family:arial\; font-size:10pt">Clean Candles - Candles</span></p>\n\n<p><span style="background-color:transparent\; font-family:arial\; font-size:10pt">Goodness Gracious - Light Breakfast + Lunch Options</span></p>\n\n<p><span style="background-color:transparent\; font-family:arial\; font-size:10pt">JustFries - Boardwalk French Fries</span></p>\n\n<p><span style="background-color:transparent\; font-family:arial\; font-size:10pt">The Mamie Jane Co - Jewelry</span></p>\n\n<p><span style="background-color:transparent\; font-family:arial\; font-size:10pt">The Paper Nest Studio - Macrame Designs</span></p>\n\n<p><span style="background-color:transparent\; font-family:arial\; font-size:10pt">Village to Village - Guatemalan Handicrafts + Secondhand Finds</span></p>\n\n<p><span style="background-color:transparent\; font-family:arial\; font-size:10pt">Woven + Wood - Refurbished Furniture + Home Decor<br />\n<br />\nPlus stop in the shoppe + pickup a new fair trade or survivor made goodie for fall!</span></p>\n</div>\n
LOCATION:3051 S Main Street Harrisonburg VA 22801
UID:e.2338.12211
SEQUENCE:3
DTSTAMP:20260424T182434Z
URL:https://chamber.hrchamber.org/events/details/shop-small-y-all-market-09-03-2022-12211
END:VEVENT

END:VCALENDAR
