BEGIN:VCALENDAR
VERSION:2.0
PRODID:-//ChamberMaster//Event Calendar 2.0//EN
METHOD:PUBLISH
X-PUBLISHED-TTL:P3D
REFRESH-INTERVAL:P3D
CALSCALE:GREGORIAN
BEGIN:VEVENT
DTSTART;VALUE=DATE:20181219
DTEND;VALUE=DATE:20181220
TRANSP:TRANSPARENT
X-MICROSOFT-CDO-ALLDAYEVENT:TRUE
SUMMARY:Shop Local Drawing
DESCRIPTION:Shop Local Campaign - The drawing for the winner of all those who have registered at local stores/resturants/companies will be annouced.  To enter to win you must spend at least $25 at a participating locations and fill out a registration form.
X-ALT-DESC;FMTTYPE=text/html:<span style="font-size:14px\;"><strong>Shop Local Campaign</strong></span> - The drawing for the winner of all those who have registered at local stores/resturants/companies will be annouced.&nbsp\; To enter to win you must spend at least $25 at a participating locations and fill out a registration form.&nbsp\;
LOCATION:
UID:e.2338.6091
SEQUENCE:3
DTSTAMP:20260420T054703Z
URL:https://chamber.hrchamber.org/events/details/shop-local-drawing-6091
END:VEVENT

END:VCALENDAR
