BEGIN:VCALENDAR
VERSION:2.0
PRODID:-//ChamberMaster//Event Calendar 2.0//EN
METHOD:PUBLISH
X-PUBLISHED-TTL:P3D
REFRESH-INTERVAL:P3D
CALSCALE:GREGORIAN
BEGIN:VEVENT
DTSTART;VALUE=DATE:20191218
DTEND;VALUE=DATE:20191219
TRANSP:TRANSPARENT
X-MICROSOFT-CDO-ALLDAYEVENT:TRUE
SUMMARY:Shop Local Campaign 2019 - Winner Announced
DESCRIPTION:Today (12/18/19) we will announce the winner of the Shop Local Campaign. Stay Tuned.... \n\n\n\nParticipating Businesses: \n\n\n\nBluestone Vineyard   Brix and Columns Vineyards   BrydgeWorks Glass Studio   Classic Menswear & Tuxedos   Escapes Spa   Explore More Discovery Museum   Friendly City Dance Room   Honey Baked Ham   Massanetta Springs   Mulligan's Golf Center   Rockingham Cooperative   Shenandoah Heritage Market   Shirleys Popcorn   Smiley Ice Cream   Stoney Run Artisans & Highland Designs   White Oak Lavender
X-ALT-DESC;FMTTYPE=text/html:Today (12/18/19) we will announce the winner of the Shop Local Campaign. Stay Tuned....&nbsp\;<br />\n<br />\n<strong>Participating Businesses:&nbsp\;<br />\n<br />\nBluestone Vineyard &bull\; Brix and Columns Vineyards &bull\;&nbsp\;BrydgeWorks Glass Studio &bull\; Classic Menswear &amp\; Tuxedos &bull\; Escapes Spa &bull\; Explore More Discovery Museum &bull\; Friendly City Dance Room &bull\; Honey Baked Ham &bull\; Massanetta Springs &bull\;&nbsp\;Mulligan&rsquo\;s Golf Center &bull\; Rockingham Cooperative &bull\; Shenandoah Heritage Market &bull\; Shirleys Popcorn &bull\; Smiley Ice Cream &bull\; Stoney Run Artisans &amp\; Highland Designs &bull\; White Oak Lavender</strong>
LOCATION:
UID:e.2338.8248
SEQUENCE:3
DTSTAMP:20260419T132702Z
URL:https://chamber.hrchamber.org/events/details/shop-local-campaign-2019-winner-announced-8248
END:VEVENT

END:VCALENDAR
