BEGIN:VCALENDAR
VERSION:2.0
PRODID:-//ChamberMaster//Event Calendar 2.0//EN
METHOD:PUBLISH
X-PUBLISHED-TTL:P3D
REFRESH-INTERVAL:P3D
CALSCALE:GREGORIAN
BEGIN:VEVENT
DTSTART:20171103T140000Z
DTEND:20171106T000000Z
X-MICROSOFT-CDO-ALLDAYEVENT:FALSE
SUMMARY:Shirley's Gourmet Popcorn Customer Appreciation Event
DESCRIPTION:It's our annual Customer Appreciation Weekend at our Harrisonburg store\, Nov. 3-5! -FREE $5 gift cards with $10 purchase limit (one per customer) -FREE magnets\, pens\, red tote -FREE copies of our original children's book\, "Timothy Troyer Tries Toast" -Enter your name to win a cloth tote bag full of popcorn goodies
X-ALT-DESC;FMTTYPE=text/html:It&#39\;s our annual Customer Appreciation Weekend at our Harrisonburg store\, Nov. 3-5! -FREE $5 gift cards with $10 purchase limit (one per customer) -FREE magnets\, pens\, red tote -FREE copies of our original children&#39\;s book\, &quot\;Timothy Troyer Tries Toast&quot\; -Enter your name to win a cloth tote bag full of popcorn goodies
LOCATION:102. S. Main St. Harrisonburg Va 22801
UID:e.2338.3306
SEQUENCE:3
DTSTAMP:20260420T054915Z
URL:https://chamber.hrchamber.org/events/details/shirley-s-gourmet-popcorn-customer-appreciation-event-3306
END:VEVENT

END:VCALENDAR
