BEGIN:VCALENDAR
VERSION:2.0
PRODID:-//ChamberMaster//Event Calendar 2.0//EN
METHOD:PUBLISH
X-PUBLISHED-TTL:P3D
REFRESH-INTERVAL:P3D
CALSCALE:GREGORIAN
BEGIN:VEVENT
DTSTART:20170823T140000Z
DTEND:20170826T013000Z
X-MICROSOFT-CDO-ALLDAYEVENT:FALSE
SUMMARY:Shirley's Gourmet Popcorn 1 year Anniversary
DESCRIPTION:We would like to celebrate the One-Year Anniversary of the Shirley's Gourmet Popcorn Company\, Harrisonburg\, with our friends in all of the Harrisonburg Downtown businesses. From August 23-25\, any customer who visits Shirley's Gourmet Popcorn Company (Harrisonburg) will be given a FREE Small Bag of Caramel To Die For in exchange for a receipt showing a purchase of $10.00 or more from one of the businesses downtown!!! Spread the word\, and don't miss out! THANKS for making us feel so welcome to the downtown area!!
X-ALT-DESC;FMTTYPE=text/html:We would like to celebrate the One-Year Anniversary of the Shirley&#39\;s Gourmet Popcorn Company\, Harrisonburg\, with our friends in all of the Harrisonburg Downtown businesses. From August 23-25\, any customer who visits Shirley&#39\;s Gourmet Popcorn Company (Harrisonburg) will be given a FREE Small Bag of Caramel To Die For in exchange for a receipt showing a purchase of $10.00 or more from one of the businesses downtown!!! Spread the word\, and don&#39\;t miss out! THANKS for making us feel so welcome to the downtown area!!
LOCATION:Shirley's Gourmet Popcorn Co. 102 S. Main Street Harrisonburg Va. 22801
UID:e.2338.3221
SEQUENCE:3
DTSTAMP:20260420T011308Z
URL:https://chamber.hrchamber.org/events/details/shirley-s-gourmet-popcorn-1-year-anniversary-3221
END:VEVENT

END:VCALENDAR
