BEGIN:VCALENDAR
VERSION:2.0
PRODID:-//ChamberMaster//Event Calendar 2.0//EN
METHOD:PUBLISH
X-PUBLISHED-TTL:P3D
REFRESH-INTERVAL:P3D
CALSCALE:GREGORIAN
BEGIN:VEVENT
DTSTART:20170725T200000Z
DTEND:20170725T220000Z
X-MICROSOFT-CDO-ALLDAYEVENT:FALSE
SUMMARY:Shenandoah Women's Alliance - The Importance of Choice with Special Guest Jane Van Ryan
DESCRIPTION:
X-ALT-DESC;FMTTYPE=text/html:
LOCATION:17768 Honeyville Road\, Timberville\, VA 22853
UID:e.2338.3182
SEQUENCE:3
DTSTAMP:20260419T235632Z
URL:https://chamber.hrchamber.org/events/details/shenandoah-women-s-alliance-the-importance-of-choice-with-special-guest-jane-van-ryan-3182
END:VEVENT

END:VCALENDAR
