BEGIN:VCALENDAR
VERSION:2.0
PRODID:-//ChamberMaster//Event Calendar 2.0//EN
METHOD:PUBLISH
X-PUBLISHED-TTL:P3D
REFRESH-INTERVAL:P3D
CALSCALE:GREGORIAN
BEGIN:VEVENT
DTSTART:20170919T200000Z
DTEND:20170919T220000Z
X-MICROSOFT-CDO-ALLDAYEVENT:FALSE
SUMMARY:Shenandoah Women's Alliance - Partnering with Women in Beer
DESCRIPTION:Join us to learn how women at your local MillerCoors Shenandoah Brewery are empowered to play a vital role in the day-to-day operations of the facility\, as well as ways you can collaborate and partner with MillerCoors to benefit your business or organization.
X-ALT-DESC;FMTTYPE=text/html:<span style="font-family:calibri\,sans-serif\;"><span style="font-size:11.0pt\;">Join us to learn how women at your local MillerCoors Shenandoah Brewery are empowered to play a vital role in the day-to-day operations of the facility\, </span></span><span style="font-family:calibri\,sans-serif\;"><span style="font-size:11.0pt\;">as well as ways you can collaborate and partner with MillerCoors to benefit your business or organization. </span></span>&nbsp\;<br />\n&nbsp\;
LOCATION:MillerCoors Shenandoah Brewery 5135 SE Side Hwy\, Elkton\, VA 22827
UID:e.2338.3237
SEQUENCE:3
DTSTAMP:20260420T011626Z
URL:https://chamber.hrchamber.org/events/details/shenandoah-women-s-alliance-partnering-with-women-in-beer-3237
END:VEVENT

END:VCALENDAR
