BEGIN:VCALENDAR
VERSION:2.0
PRODID:-//ChamberMaster//Event Calendar 2.0//EN
METHOD:PUBLISH
X-PUBLISHED-TTL:P3D
REFRESH-INTERVAL:P3D
CALSCALE:GREGORIAN
BEGIN:VEVENT
DTSTART:20170516T200000Z
DTEND:20170516T220000Z
X-MICROSOFT-CDO-ALLDAYEVENT:FALSE
SUMMARY:Shenandoah Women's Alliance
DESCRIPTION:Everyone wants financial security\, yet women often face financial headwinds that can affect their ability to achieve it. \n\n	Women have longer life expectancies\n	Women generally earn less and have fewer savings\n	Women are more likely to take career breaks for care giving\n\n The good news is that women today have never been in a better position to achieve financial security for themselves and their families.  With women having more education\, status and money than ever\, it is now even more important that we develop an understanding of personal finance\, investing\, retirement planning\, estate planning and tips of finding ways to save.\n\n \n\nJoin us to spend time with your female peers and learn how to take control of your finances so you can achieve financial security.\n\n\n\nPresenters: Jacqueline Kurtz\, Client Advisor\, Union Bank & Trust\, RJFS and Margot Allman-Smith\, Financial Advisor\, Union Bank & Trust\, RJFS\n\n\n\nThank you to our Venue Sponsor The Reserve at Stone Port and our Beverage Sponsor Bellaire at Stone Port.
X-ALT-DESC;FMTTYPE=text/html:<div class="mn-event-content">\n<div class="mn-raw mn-print-url" itemprop="description"><span style="font-size:14px\;">Everyone wants financial security\, yet women often face financial <span data-scayt-lang="en_US" data-scayt-word="headwinds">headwinds</span> that can affect their ability to achieve it.&nbsp\;</span>\n<ul>\n	<li><span style="font-size:14px\;">Women have longer life expectancies</span></li>\n	<li><span style="font-size:14px\;">Women generally earn less and have fewer savings</span></li>\n	<li><span style="font-size:14px\;">Women are more likely to take career breaks for <span data-scayt-lang="en_US" data-scayt-word="caregiving">care giving</span></span></li>\n</ul>\n<span style="font-size:14px\;"> The good news is that women today have never been in a better position to achieve financial security for themselves and their families.&nbsp\; With women having more education\, status and money than ever\, it is now even more important that we develop an understanding of personal finance\, investing\, retirement planning\, estate planning and tips of finding ways to save.<br />\n&nbsp\;<br />\nJoin us to spend time with your female peers and learn how to take control of your finances so you can achieve financial security.<br />\n<br />\n<strong>Presenters:</strong> Jacqueline Kurtz\, Client Advisor\, Union Bank &amp\; Trust\, RJFS and Margot Allman-Smith\, Financial Advisor\, Union Bank &amp\; Trust\, RJFS<br />\n<br />\n<strong>Thank you to our Venue Sponsor <a href="http://www.liveatstoneport.com/" target="_blank">The Reserve at Stone Port</a> and our Beverage Sponsor <a href="http://www.bellaireatstoneport.com/" target="_blank">Bellaire at Stone Port</a>.</strong></span></div>\n</div>\n
LOCATION:The Reserve at Stone Port 2015 Reserve Circle\, Harrisonburg\, VA 22801
UID:e.2338.1562
SEQUENCE:3
DTSTAMP:20260419T192008Z
URL:https://chamber.hrchamber.org/events/details/shenandoah-women-s-alliance-1562
END:VEVENT

END:VCALENDAR
