BEGIN:VCALENDAR
VERSION:2.0
PRODID:-//ChamberMaster//Event Calendar 2.0//EN
METHOD:PUBLISH
X-PUBLISHED-TTL:P3D
REFRESH-INTERVAL:P3D
CALSCALE:GREGORIAN
BEGIN:VEVENT
DTSTART:20170720T210000Z
DTEND:20170720T230000Z
X-MICROSOFT-CDO-ALLDAYEVENT:FALSE
SUMMARY:Shenandoah Valley Regional Airport & Travel Leaders BAH Event RSVP
DESCRIPTION:Shenandoah Valley Regional Airport & Travel Leaders Business After Hours
X-ALT-DESC;FMTTYPE=text/html:Shenandoah Valley Regional Airport &amp\; Travel Leaders Business After Hours
LOCATION:Shenandoah Valley Regional Airport 77 Aviation Circle\, Weyers Cave\, VA 24486
UID:e.2338.1529
SEQUENCE:3
DTSTAMP:20260419T234826Z
URL:https://chamber.hrchamber.org/events/details/shenandoah-valley-regional-airport-travel-leaders-bah-event-rsvp-1529
END:VEVENT

END:VCALENDAR
