BEGIN:VCALENDAR
VERSION:2.0
PRODID:-//ChamberMaster//Event Calendar 2.0//EN
METHOD:PUBLISH
X-PUBLISHED-TTL:P3D
REFRESH-INTERVAL:P3D
CALSCALE:GREGORIAN
BEGIN:VEVENT
DTSTART:20181019T230000Z
DTEND:20181020T000000Z
X-MICROSOFT-CDO-ALLDAYEVENT:FALSE
SUMMARY:Shenandoah Valley Lyceum
DESCRIPTION:"Stories of Trauma\, Resilience and Reconciliation: From West Africa to the Balkans"
X-ALT-DESC;FMTTYPE=text/html:&quot\;Stories of Trauma\, Resilience and Reconciliation: From West Africa to the Balkans&quot\;
LOCATION:Detwiler Auditorium\, VMRC 1501 Virginia Ave.\, Harrisonburg
UID:e.2338.6055
SEQUENCE:3
DTSTAMP:20260420T090715Z
URL:https://chamber.hrchamber.org/events/details/shenandoah-valley-lyceum-6055
END:VEVENT

END:VCALENDAR
