BEGIN:VCALENDAR
VERSION:2.0
PRODID:-//ChamberMaster//Event Calendar 2.0//EN
METHOD:PUBLISH
X-PUBLISHED-TTL:P3D
REFRESH-INTERVAL:P3D
CALSCALE:GREGORIAN
BEGIN:VEVENT
DTSTART:20160709T130000Z
DTEND:20160709T200000Z
X-MICROSOFT-CDO-ALLDAYEVENT:FALSE
SUMMARY:Shenandoah Valley Bike & Wine Tour
DESCRIPTION:Bluestone Bike & Run is leading a Shenandoah Valley Bike & Wine Tour on Saturday\, July 9th. This event will be a 50 mile ride through the scenic roads west of Harrisonburg. Midway through the ride we'll stop at Bluestone Vineyard for a private tour and tasting\, along with a catered lunch from local bakery\, Heritage Bakery & Cafe. Register for the event on our website: http://www.bluestonebikerun.com/cycling-tours/
X-ALT-DESC;FMTTYPE=text/html:<span style="color:rgb(34\, 34\, 34)\; font-family:arial\,sans-serif\; font-size:12.8px">Bluestone Bike &amp\; Run is leading a Shenandoah Valley Bike &amp\; Wine Tour on Saturday\, July 9th. This event will be a 50 mile ride through the scenic roads west of Harrisonburg. Midway through the ride we&#39\;ll stop at Bluestone Vineyard for a private tour and tasting\, along with a catered lunch from local bakery\, Heritage Bakery &amp\; Cafe. Register for the event on our website:&nbsp\;</span><a href="http://www.bluestonebikerun.com/cycling-tours/" style="color: rgb(17\, 85\, 204)\; font-family: arial\, sans-serif\; font-size: 12.8px\; line-height: normal\;" target="_blank">http://www.bluestonebikerun.com/cycling-tours/</a>
LOCATION:Bluestone Bike & Run 1570 S. Main St. Harrisonburg\, VA 22801
UID:e.2338.442
SEQUENCE:3
DTSTAMP:20260422T015409Z
URL:https://chamber.hrchamber.org/events/details/shenandoah-valley-bike-wine-tour-07-09-2016-442
END:VEVENT

END:VCALENDAR
