BEGIN:VCALENDAR
VERSION:2.0
PRODID:-//ChamberMaster//Event Calendar 2.0//EN
METHOD:PUBLISH
X-PUBLISHED-TTL:P3D
REFRESH-INTERVAL:P3D
CALSCALE:GREGORIAN
BEGIN:VEVENT
DTSTART:20170615T160000Z
DTEND:20170615T170000Z
X-MICROSOFT-CDO-ALLDAYEVENT:FALSE
SUMMARY:Shenandoah Valley Bach Festival\, Noon Chamber Music Series
DESCRIPTION:The Shenandoah Valley Bach Festival celebrates 25 years June 11-18\, 2017.  Festival musicians present free noon chamber music concerts Tuesday through Saturday featuring a diverse selection of works for small ensembles.  A full list of artists and repertoire is available at www.svbachfestival.org.
X-ALT-DESC;FMTTYPE=text/html:The Shenandoah Valley Bach Festival celebrates 25 years June 11-18\, 2017.&nbsp\; Festival musicians present free noon chamber music concerts Tuesday through Saturday featuring a diverse selection of works for small ensembles.&nbsp\; A full list of artists and repertoire is available at www.svbachfestival.org.<br />\n&nbsp\;
LOCATION:First Presbyterian Church\, downtown Harrisonburg
UID:e.2338.2694
SEQUENCE:3
DTSTAMP:20260419T221108Z
URL:https://chamber.hrchamber.org/events/details/shenandoah-valley-bach-festival-noon-chamber-music-series-06-15-2017-2694
END:VEVENT

END:VCALENDAR
