BEGIN:VCALENDAR
VERSION:2.0
PRODID:-//ChamberMaster//Event Calendar 2.0//EN
METHOD:PUBLISH
X-PUBLISHED-TTL:P3D
REFRESH-INTERVAL:P3D
CALSCALE:GREGORIAN
BEGIN:VEVENT
DTSTART:20190616T140000Z
DTEND:20190616T140000Z
X-MICROSOFT-CDO-ALLDAYEVENT:FALSE
SUMMARY:Shenandoah Valley Bach Festival\, Leipzig Service
DESCRIPTION:Creation is the theme of the 27th annual Shenandoah Valley Bach Festival\, to be held in Harrisonburg June 9-16\, 2019. The 27th season concludes with the cherished Leipzig Service\, modeled on services during Bach's years as a church musician in Leipzig\, Germany during the Baroque era.  Artistic Director Kenneth Nafziger leads the Festival Orchestra and Choir in J. S. Bach's setting of Psalm 23\, Der Herr ist mein getreuer Hirt\, BWV 112.
X-ALT-DESC;FMTTYPE=text/html:Creation is the theme of the 27th annual Shenandoah Valley Bach Festival\, to be held in Harrisonburg June 9-16\, 2019. The 27th season concludes with the cherished Leipzig Service\, modeled on services during Bach&rsquo\;s years as a church musician in Leipzig\, Germany during the Baroque era.&nbsp\; Artistic Director Kenneth Nafziger leads the Festival Orchestra and Choir in J. S. Bach&rsquo\;s setting of Psalm 23\, Der Herr ist mein getreuer Hirt\, BWV 112.
LOCATION:Lehman Auditorium\, EMU Campus 1200 Park Road Harrisonburg\,VA 22801
UID:e.2338.6352
SEQUENCE:3
DTSTAMP:20260419T212903Z
URL:https://chamber.hrchamber.org/events/details/shenandoah-valley-bach-festival-leipzig-service-06-16-2019-6352
END:VEVENT

END:VCALENDAR
