BEGIN:VCALENDAR
VERSION:2.0
PRODID:-//ChamberMaster//Event Calendar 2.0//EN
METHOD:PUBLISH
X-PUBLISHED-TTL:P3D
REFRESH-INTERVAL:P3D
CALSCALE:GREGORIAN
BEGIN:VEVENT
DTSTART:20170617T233000Z
DTEND:20170618T013000Z
X-MICROSOFT-CDO-ALLDAYEVENT:FALSE
SUMMARY:Shenandoah Valley Bach Festival\, Concert 3
DESCRIPTION:The Shenandoah Valley Bach Festival celebrates 25 years June 11-18\, 2017.  This concert features the Festival Orchestra performing Cuban music and concludes with a showing of the silent film Cinderella (1914) with live orchestral accompaniment composed by Maria Newman.  Ms. Newman will offer a pre-concert talk beginning at 6:45pm.
X-ALT-DESC;FMTTYPE=text/html:The Shenandoah Valley Bach Festival celebrates 25 years June 11-18\, 2017.&nbsp\; This concert features the Festival Orchestra performing Cuban music and concludes with a showing of the silent film <em>Cinderella</em> (1914) with live orchestral accompaniment composed by Maria Newman.&nbsp\; Ms. Newman will offer a pre-concert talk beginning at 6:45pm.<br />\n<br />\n<br />\n&nbsp\;
LOCATION:Lehman Auditorium\, EMU Campus 1200 Park Road Harrisonburg\, VA 22802
UID:e.2338.2689
SEQUENCE:3
DTSTAMP:20260419T221022Z
URL:https://chamber.hrchamber.org/events/details/shenandoah-valley-bach-festival-concert-3-2689
END:VEVENT

END:VCALENDAR
