BEGIN:VCALENDAR
VERSION:2.0
PRODID:-//ChamberMaster//Event Calendar 2.0//EN
METHOD:PUBLISH
X-PUBLISHED-TTL:P3D
REFRESH-INTERVAL:P3D
CALSCALE:GREGORIAN
BEGIN:VEVENT
DTSTART:20190615T233000Z
DTEND:20190616T020000Z
X-MICROSOFT-CDO-ALLDAYEVENT:FALSE
SUMMARY:Shenandoah Valley Bach Festival Concert 3
DESCRIPTION:Creation is the theme of the 27th annual Shenandoah Valley Bach Festival\, to be held in Harrisonburg June 9-16\, 2019. The centerpiece of the Festival will be a performance of The Creation\, a monumental oratorio by classical composer Joseph Haydn that depicts the creation of the world as described in the Book of Genesis. A pre-concert talk by Artistic Director Kenneth Nafziger begins at 2:15pm.\n\n\n\nTickets: $27   Adults\, $22   Seniors (65+)\, $15 Youth (22 & under)\n\nMulti-concert discounts and group rates available.  All tickets $2 higher at the door.\n\nPurchase at www.svbachfestival.org or call the EMU Box Office (540) 432-4582
X-ALT-DESC;FMTTYPE=text/html:Creation is the theme of the 27th annual Shenandoah Valley Bach Festival\, to be held in Harrisonburg June 9-16\, 2019. The centerpiece of the Festival will be a performance of The Creation\, a monumental oratorio by classical composer Joseph Haydn that depicts the creation of the world as described in the Book of Genesis. A pre-concert talk by Artistic Director Kenneth Nafziger begins at 2:15pm.<br />\n<br />\nTickets: $27 &ndash\; Adults\, $22 &ndash\; Seniors (65+)\, $15 Youth (22 &amp\; under)<br />\nMulti-concert discounts and group rates available.&nbsp\; All tickets $2 higher at the door.<br />\nPurchase at www.svbachfestival.org or call the EMU Box Office (540) 432-4582
LOCATION:Lehman Auditorium\, EMU Campus 1200 Park Road Harrisonburg VA 22802
UID:e.2338.6347
SEQUENCE:3
DTSTAMP:20260419T213142Z
URL:https://chamber.hrchamber.org/events/details/shenandoah-valley-bach-festival-concert-3-06-14-2019-6347
END:VEVENT

END:VCALENDAR
