BEGIN:VCALENDAR
VERSION:2.0
PRODID:-//ChamberMaster//Event Calendar 2.0//EN
METHOD:PUBLISH
X-PUBLISHED-TTL:P3D
REFRESH-INTERVAL:P3D
CALSCALE:GREGORIAN
BEGIN:VEVENT
DTSTART:20170616T233000Z
DTEND:20170617T013000Z
X-MICROSOFT-CDO-ALLDAYEVENT:FALSE
SUMMARY:Shenandoah Valley Bach Festival\, Concert 2
DESCRIPTION:The Shenandoah Valley Bach Festival celebrates 25 years June 11-18\, 2017.  Concert 2 features Schubert's iconic "Unfinished" Symphony and baritone Daniel Lichti in Brahms' Four Serious Songs.  A pre-concert talk by Artistic Director Kenneth Nafziger begins at 6:45pm.
X-ALT-DESC;FMTTYPE=text/html:The Shenandoah Valley Bach Festival celebrates 25 years June 11-18\, 2017.&nbsp\; Concert 2 features Schubert&rsquo\;s iconic &ldquo\;Unfinished&rdquo\; Symphony and baritone Daniel Lichti in Brahms&rsquo\; Four Serious Songs.&nbsp\; A pre-concert talk by Artistic Director Kenneth Nafziger begins at 6:45pm.<br />\n<br />\n&nbsp\;
LOCATION:Lehman Auditorium\, EMU Campus 1200 Park Road Harrisonburg\, VA 22802
UID:e.2338.2688
SEQUENCE:3
DTSTAMP:20260419T205351Z
URL:https://chamber.hrchamber.org/events/details/shenandoah-valley-bach-festival-concert-2-2688
END:VEVENT

END:VCALENDAR
